BEGIN:VCALENDAR
PRODID:NingEventWidget-v1
VERSION:2.0
METHOD:PUBLISH
BEGIN:VTIMEZONE
TZID:Europe/London
X-LIC-LOCATION:Europe/London
BEGIN:DAYLIGHT
TZOFFSETFROM:+0000
TZOFFSETTO:+0100
TZNAME:BST
DTSTART:19700329T010000
RRULE:FREQ=YEARLY;BYMONTH=3;BYDAY=-1SU
END:DAYLIGHT
BEGIN:STANDARD
TZOFFSETFROM:+0100
TZOFFSETTO:+0000
TZNAME:GMT
DTSTART:19701025T020000
RRULE:FREQ=YEARLY;BYMONTH=10;BYDAY=-1SU
END:STANDARD
END:VTIMEZONE
BEGIN:VEVENT
UID:4626108:Event:408851
DTSTAMP:20260422T103841Z
SUMMARY:ZOOM FREE: Half-hour Afternoon LinkedInTraining with Keith
DESCRIPTION:Free Learn2Love LinkedIn Session!\r\n\r\n\r\nA quick half-
 hour exploring LinkedIn and how to make the most of the platform.\r\n\
 "LinkedIn is now up to 700 million total members. Microsoft has repor
 ted ongoing sessions growth on LinkedIn, with the platform seeing reco
 rd levels of engagement\"\r\nThere's nothing for sale and no selling o
 pportunities, just a chance to share and acquire knowledge and skills 
 from each other - mastering LinkedIn is more important than ever in th
 e current crisis...\r\nThis class uses Zoom and may be recorded & post
 ed on social media to be available for others to view it. By joining t
 his event and participating you agree to this.\r\nPlease email keith
 @networkinginsurrey.co.uk \r\nCOST: FREE\r\nBOOKING: Please CLICK H
 ERE to book your free place\r\n\n\nFor more information visit https:/
 /networkinginsurrey.co.uk/events/zoom-free-half-hour-afternoon-linkedi
 ntraining-with-keith
DTSTART;TZID=Europe/London:20200422T140000
DTEND;TZID=Europe/London:20200422T143000
CATEGORIES:training, online, networking
LOCATION:Online only
WEBSITE:
URL:
CONTACT:
ORGANIZER;CN="Keith Grover, NiS Founder":https://networkinginsurrey.co
 .uk/profile/KeithGrover
ATTACH;FMTTYPE="image/jpeg":https://storage.ning.com/topology/rest/1.0
 /file/get/541433889?profile=original
ATTENDEE;ROLE=REQ-PARTICIPANT;PARTSTAT=ACCEPTED;RSVP=TRUE;CN="Keith Gr
 over, NiS Founder":https://networkinginsurrey.co.uk/profile/KeithGrove
 r
END:VEVENT
END:VCALENDAR
