BEGIN:VCALENDAR
PRODID:NingEventWidget-v1
VERSION:2.0
METHOD:PUBLISH
BEGIN:VTIMEZONE
TZID:Europe/London
X-LIC-LOCATION:Europe/London
BEGIN:DAYLIGHT
TZOFFSETFROM:+0000
TZOFFSETTO:+0100
TZNAME:BST
DTSTART:19700329T010000
RRULE:FREQ=YEARLY;BYMONTH=3;BYDAY=-1SU
END:DAYLIGHT
BEGIN:STANDARD
TZOFFSETFROM:+0100
TZOFFSETTO:+0000
TZNAME:GMT
DTSTART:19701025T020000
RRULE:FREQ=YEARLY;BYMONTH=10;BYDAY=-1SU
END:STANDARD
END:VTIMEZONE
BEGIN:VEVENT
UID:4626108:Event:528594
DTSTAMP:20260420T111910Z
SUMMARY:Zoco Networking Live! Morning, Oxshott
DESCRIPTION:Zoco Networking Live! Morning, Oxshott\r\n\r\nZoco stan
 ds for Zoom + Coffee!\r\nWe officially launched in August 2020 after a
  few months of free meetings to support people during lockdown. Whilst
  the Founder Nick is based in Hampton, South West London, we now have 
 visitors from all over the world visiting us each week, many able to d
 o business completely online so not tied to geographic limitations.\r\
 nNow we are also starting to run new in-person local groups, so welcom
 e to the Oxshott in-person part of Zoco.\r\nFor the online sessions, w
 e don't mind where you join from! Most of us tend to be based in the S
 W London and Surrey  area as this is where it started and where Nick 
 the founder is based. For this session as it's one of our first in-per
 son sessions, obviously you'll need to be fairly close to the Oxshott 
 area!\r\nOur Speaker will be NiS Founder and LinkedIn Trainer Keith
  Grover who'll be sharing his 'Jolly Good Gardener's Guide to Network
 ing' (and a lot more besides, no doubt!)\r\nBuilding relationships is 
 critical not only for business success but also for our mental health.
  We always encourage our members to set up 1-1 calls with each other o
 utside of the official meetings.\r\nCOST: £10 Visitors - all welcome 
 (FREE to Zoco Menbers) \r\nBOOKING: Please CLICK HERE to book your pl
 ace - a Zoom link will be sent to you before the event\r\nMAP\r\n-----
 ----------------------------------------------------\r\nFounder Nick B
 lanchard.says: I run informal online groups. I wouldn't call it netwo
 rking exactly, though we are a supportive network, but without the for
 malities, strict structures, rules and constant selling!\r\n…..click
  here for the Zoco story so far….The BEST Facebook Networking grou
 p is here….. PLEASE JOIN!\r\n\n\nFor more information visit https://
 networkinginsurrey.co.uk/events/zoco-networking-live-morning-oxshott-2
DTSTART;TZID=Europe/London:20210916T100000
DTEND;TZID=Europe/London:20210916T120000
CATEGORIES:speed, networking, free
LOCATION:The Bear KT22 0JE
WEBSITE:
URL:
CONTACT:07966 444693
ORGANIZER;CN="Nick Blanchard":https://networkinginsurrey.co.uk/profile
 /NickBlanchard
ATTACH;FMTTYPE="image/jpeg":https://storage.ning.com/topology/rest/1.0
 /file/get/7848999689?profile=original
ATTENDEE;ROLE=REQ-PARTICIPANT;PARTSTAT=ACCEPTED;RSVP=TRUE;CN="Nick Bla
 nchard":https://networkinginsurrey.co.uk/profile/NickBlanchard
END:VEVENT
END:VCALENDAR
