BEGIN:VCALENDAR
PRODID:NingEventWidget-v1
VERSION:2.0
METHOD:PUBLISH
BEGIN:VTIMEZONE
TZID:Europe/London
X-LIC-LOCATION:Europe/London
BEGIN:DAYLIGHT
TZOFFSETFROM:+0000
TZOFFSETTO:+0100
TZNAME:BST
DTSTART:19700329T010000
RRULE:FREQ=YEARLY;BYMONTH=3;BYDAY=-1SU
END:DAYLIGHT
BEGIN:STANDARD
TZOFFSETFROM:+0100
TZOFFSETTO:+0000
TZNAME:GMT
DTSTART:19701025T020000
RRULE:FREQ=YEARLY;BYMONTH=10;BYDAY=-1SU
END:STANDARD
END:VTIMEZONE
BEGIN:VEVENT
UID:4626108:Event:541487
DTSTAMP:20260419T150227Z
SUMMARY:Zoco Monthly Morning Networking Online
DESCRIPTION: Zoco Monthly Networking Morning\r\n**This month only - w
 e are meeting 0n MONDAY (not Tuesday as normally) **\r\nIf you have EV
 ER done business Networking, and feel the time is right to try somethi
 ng NEW….. welcome to Zoco!!!\r\nThis is our more 'traditional' forma
 t meeting in addition to the Monday intention setting and Friday accou
 ntability check ins as well as the popular Speed Networking sessions.\
 r\nWe also run local in-person networking meetings in venues in Surrey
  at Reigate, Kingston, Guildford and Oxshott.\r\nCOST: FREE to Zoco 
 Menbers and First-time Visitors; £10 returning Non-members - all we
 lcome! \r\nBOOKING: Please CLICK HERE to book your place - a Zoom lin
 k will be sent to you before the event\r\n----------------------------
 -----------------------------\r\n…..click here for the Zoco story s
 o far….The BEST Facebook Networking group is here….. PLEASE JOIN!
  \r\n\n\nFor more information visit https://networkinginsurrey.co.uk/
 events/zoco-monthly-morning-networking-online-599
DTSTART;TZID=Europe/London:20240416T100000
DTEND;TZID=Europe/London:20240416T110000
CATEGORIES:speed, networking, free
LOCATION:Online only
WEBSITE:
URL:
CONTACT:07966 444693
ORGANIZER;CN="Nick Blanchard":https://networkinginsurrey.co.uk/profile
 /NickBlanchard
ATTACH;FMTTYPE="image/jpeg":https://storage.ning.com/topology/rest/1.0
 /file/get/7848999689?profile=original
ATTENDEE;ROLE=REQ-PARTICIPANT;PARTSTAT=ACCEPTED;RSVP=TRUE;CN="Nick Bla
 nchard":https://networkinginsurrey.co.uk/profile/NickBlanchard
END:VEVENT
END:VCALENDAR
