BEGIN:VCALENDAR
PRODID:NingEventWidget-v1
VERSION:2.0
METHOD:PUBLISH
BEGIN:VTIMEZONE
TZID:Europe/London
X-LIC-LOCATION:Europe/London
BEGIN:DAYLIGHT
TZOFFSETFROM:+0000
TZOFFSETTO:+0100
TZNAME:BST
DTSTART:19700329T010000
RRULE:FREQ=YEARLY;BYMONTH=3;BYDAY=-1SU
END:DAYLIGHT
BEGIN:STANDARD
TZOFFSETFROM:+0100
TZOFFSETTO:+0000
TZNAME:GMT
DTSTART:19701025T020000
RRULE:FREQ=YEARLY;BYMONTH=10;BYDAY=-1SU
END:STANDARD
END:VTIMEZONE
BEGIN:VEVENT
UID:4626108:Event:549809
DTSTAMP:20260421T214400Z
SUMMARY:Zoco Live! Morning Networking, Dorking
DESCRIPTION:Zoco Networking Live! Morning, Dorking\n\nZoco stands f
 or Zoom + Coffee!\nGroup Honcho Fiona Clark welcomes you to the Dorki
 ng Zoco Business Networking event.\nWe officially launched in August 2
 020 after a few months of free meetings to support people during lockd
 own. Whilst the Founder Nick is based in Hampton, South West London, w
 e now have visitors from all over the world visiting us each week, man
 y able to do business completely online so not tied to geographic limi
 tations.\nNow we are also running in-person local groups, so welcome t
 o the Dorking group.\nFor the online sessions, we don't mind where you
  join from! Most of us tend to be based in the SW London and Surrey  
 area as this is where it started and where Nick the founder is based. 
 For this session obviously you'll need to be based fairly close to the
  Dorking area!\nBuilding relationships is critical not only for busine
 ss success but also for our mental health. We always encourage our mem
 bers to set up 1-1 calls with each other outside of the official meeti
 ngs.\nCOST: £10 Visitors - all welcome (FREE to Zoco Menbers) \nBOOK
 ING: Please CLICK HERE to book your place\nMAP\n----------------------
 --------------------\nFounder Nick Blanchard.says: I run informal onl
 ine groups. I wouldn't call it networking exactly, though we are a sup
 portive network, but without the formalities, strict structures, rules
  and constant selling!\n…..click here for the Zoco story so far….
 The BEST Facebook Networking group is here….. PLEASE JOIN!\n\n\nFor
  more information visit https://networkinginsurrey.co.uk/events/zoco-l
 ive-morning-networking-dorking-924
DTSTART;TZID=Europe/London:20260505T103000
DTEND;TZID=Europe/London:20260505T120000
CATEGORIES:zoco, dorking
LOCATION:The Watermill RH4 1NN
WEBSITE:
URL:
CONTACT:
ORGANIZER:James Bulman
ATTACH;FMTTYPE="image/jpeg":https://storage.ning.com/topology/rest/1.0
 /file/get/11129797461?profile=original
ATTENDEE;ROLE=REQ-PARTICIPANT;PARTSTAT=ACCEPTED;RSVP=TRUE;CN="Nick Bla
 nchard":https://networkinginsurrey.co.uk/profile/NickBlanchard
END:VEVENT
END:VCALENDAR
