BEGIN:VCALENDAR
PRODID:NingEventWidget-v1
VERSION:2.0
METHOD:PUBLISH
BEGIN:VTIMEZONE
TZID:Europe/London
X-LIC-LOCATION:Europe/London
BEGIN:DAYLIGHT
TZOFFSETFROM:+0000
TZOFFSETTO:+0100
TZNAME:BST
DTSTART:19700329T010000
RRULE:FREQ=YEARLY;BYMONTH=3;BYDAY=-1SU
END:DAYLIGHT
BEGIN:STANDARD
TZOFFSETFROM:+0100
TZOFFSETTO:+0000
TZNAME:GMT
DTSTART:19701025T020000
RRULE:FREQ=YEARLY;BYMONTH=10;BYDAY=-1SU
END:STANDARD
END:VTIMEZONE
BEGIN:VEVENT
UID:4626108:Event:541998
DTSTAMP:20260421T170828Z
SUMMARY:Zoco Live! Morning Networking, Dorking
DESCRIPTION:Zoco Networking Live! Morning, Dorking\r\n\r\nZoco stan
 ds for Zoom + Coffee!\r\nGroup Honcho Fiona Clark welcomes you to the
  Kingston Zoco Business Networking event.\r\nWe officially launched in
  August 2020 after a few months of free meetings to support people dur
 ing lockdown. Whilst the Founder Nick is based in Hampton, South West 
 London, we now have visitors from all over the world visiting us each 
 week, many able to do business completely online so not tied to geogra
 phic limitations.\r\nNow we are also starting to run new in-person loc
 al groups, so welcome to the Dorking group.\r\nFor the online sessions
 , we don't mind where you join from! Most of us tend to be based in th
 e SW London and Surrey  area as this is where it started and where Ni
 ck the founder is based. For this session as it's one of our first in-
 person sessions, obviously you'll need to be fairly close to the Kings
 ton area!\r\nBuilding relationships is critical not only for business 
 success but also for our mental health. We always encourage our member
 s to set up 1-1 calls with each other outside of the official meetings
 .\r\nCOST: £10 Visitors - all welcome (FREE to Zoco Menbers) \r\nBOO
 KING: Please CLICK HERE to book your place\r\nMAP\r\n-----------------
 -------------------------\r\nFounder Nick Blanchard.says: I run infor
 mal online groups. I wouldn't call it networking exactly, though we ar
 e a supportive network, but without the formalities, strict structures
 , rules and constant selling!\r\n…..click here for the Zoco story s
 o far….The BEST Facebook Networking group is here….. PLEASE JOIN!
 \r\n\n\nFor more information visit https://networkinginsurrey.co.uk/ev
 ents/zoco-live-morning-networking-dorking-24
DTSTART;TZID=Europe/London:20240604T100000
DTEND;TZID=Europe/London:20240604T120000
CATEGORIES:zoco, dorking
LOCATION:The Watermill RH4 1NN
WEBSITE:
URL:
CONTACT:
ORGANIZER:Fiona Clark
ATTACH;FMTTYPE="image/jpeg":https://storage.ning.com/topology/rest/1.0
 /file/get/11129797461?profile=original
ATTENDEE;ROLE=REQ-PARTICIPANT;PARTSTAT=ACCEPTED;RSVP=TRUE;CN="Nick Bla
 nchard":https://networkinginsurrey.co.uk/profile/NickBlanchard
END:VEVENT
END:VCALENDAR
