BEGIN:VCALENDAR
PRODID:NingEventWidget-v1
VERSION:2.0
METHOD:PUBLISH
BEGIN:VTIMEZONE
TZID:Europe/London
X-LIC-LOCATION:Europe/London
BEGIN:DAYLIGHT
TZOFFSETFROM:+0000
TZOFFSETTO:+0100
TZNAME:BST
DTSTART:19700329T010000
RRULE:FREQ=YEARLY;BYMONTH=3;BYDAY=-1SU
END:DAYLIGHT
BEGIN:STANDARD
TZOFFSETFROM:+0100
TZOFFSETTO:+0000
TZNAME:GMT
DTSTART:19701025T020000
RRULE:FREQ=YEARLY;BYMONTH=10;BYDAY=-1SU
END:STANDARD
END:VTIMEZONE
BEGIN:VEVENT
UID:4626108:Event:537992
DTSTAMP:20260421T174631Z
SUMMARY:Zoco Live! Morning Networking, Cobham
DESCRIPTION:Zoco Networking Live! Morning at The Old Plough\nZoco stan
 ds for Zoom + Coffee!\nWe officially launched in August 2020 after a f
 ew months of free meetings to support people during lockdown. Whilst t
 he Founder Nick is based in Hampton, South West London, we now have vi
 sitors from all over the world visiting us each week, many able to do 
 business completely online so not tied to geographic limitations.\nNow
  we are also starting to run new in-person local groups, so welcome to
  the Cobham in-person part of Zoco.\nFor the online sessions, we don't
  mind where you join from! Most of us tend to be based in the SW Londo
 n and Surrey  area as this is where it started and where Nick the fou
 nder is based. For this session as it's one of our first in-person ses
 sions, obviously you'll need to be fairly close to the Cobham area!\nB
 uilding relationships is critical not only for business success but al
 so for our mental health. We always encourage our members to set up 1-
 1 calls with each other outside of the official meetings.\nCOST: £10
  Zoco Members (and First-time Visitors); £20 Non-Members payable in
  advance or cash on the door\nBOOKING: Please CLICK HERE to book you
 r place \nMAP\n------------------------------------------------------
 ---\nFounder Nick Blanchard.says: I run informal online groups. I wou
 ldn't call it networking exactly, though we are a supportive network, 
 but without the formalities, strict structures, rules and constant sel
 ling!\n…..click here for the Zoco story so far….The BEST Faceboo
 k Networking group is here….. PLEASE JOIN!\n\n\n\nFor more informati
 on visit https://networkinginsurrey.co.uk/events/zoco-live-morning-net
 working-cobham
DTSTART;TZID=Europe/London:20230323T100000
DTEND;TZID=Europe/London:20230323T120000
CATEGORIES:morning, cobham, zoco
LOCATION:The Old Plough KT11 3BN
WEBSITE:https://zoconetworking.co.uk
URL:https://zoconetworking.co.uk
CONTACT:
ORGANIZER;CN="Leonie Wright":https://networkinginsurrey.co.uk/profile/
 LeonieWright
ATTACH;FMTTYPE="image/jpeg":https://storage.ning.com/topology/rest/1.0
 /file/get/9539802283?profile=original
ATTENDEE;ROLE=REQ-PARTICIPANT;PARTSTAT=ACCEPTED;RSVP=TRUE;CN="Leonie W
 right":https://networkinginsurrey.co.uk/profile/LeonieWright
END:VEVENT
END:VCALENDAR
