BEGIN:VCALENDAR
PRODID:NingEventWidget-v1
VERSION:2.0
METHOD:PUBLISH
BEGIN:VTIMEZONE
TZID:Europe/London
X-LIC-LOCATION:Europe/London
BEGIN:DAYLIGHT
TZOFFSETFROM:+0000
TZOFFSETTO:+0100
TZNAME:BST
DTSTART:19700329T010000
RRULE:FREQ=YEARLY;BYMONTH=3;BYDAY=-1SU
END:DAYLIGHT
BEGIN:STANDARD
TZOFFSETFROM:+0100
TZOFFSETTO:+0000
TZNAME:GMT
DTSTART:19701025T020000
RRULE:FREQ=YEARLY;BYMONTH=10;BYDAY=-1SU
END:STANDARD
END:VTIMEZONE
BEGIN:VEVENT
UID:4626108:Event:542914
DTSTAMP:20260422T170050Z
SUMMARY:Zoco Live! FREE Morning Netwalk and Picnic, Kingston
DESCRIPTION:Zoco Netwalking and Picnic in Bushy \r\nPark\r\n\r\nJoin 
 Zoco Networking for a fantastic FREE event designed to help you build 
 genuine business friendships while enjoying the great outdoors!\r\nCho
 ose from free tickets for the Walk & Talk, the Networking Picnic, or b
 oth!Social/Networking Picnic: Bring your own picnic and mat/chair!\r\n
 Agenda\r\n12:30 PM - 2:00 PM Walk & Talk: One-hour walk from the Diana
  Fountain Car Park followed by a Picnic\r\nEvent Details:\r\nWalk & Ta
 lk 📍 Location: Bushy Park (Meet 11:30 at Diana Fountain Car Park).
 Join us for a one-hour walk around the beautiful Bushy Park. Connect 
 with Zoco members and guests with a relaxed walk & talk. Leave your pi
 cnic items in your car during the walk.\r\nSocial/Networking Picnic fo
 llowing the one-hour walk & talk 📍 Location: Bushy Park (12:30 at D
 iana Fountain Car Park)\r\nBring your picnic mat, rug, or chair and en
 joy a leisurely lunch with fellow networkers. Bring your own picnic or
  purchase food from the nearby café. This is a fantastic opportunity 
 to introduce yourself and your business in a relaxed environment.\r\nN
 etwork Naturally: Build genuine business connections in an informal an
 d fun setting. Get Outdoors: Enjoy the fresh air and scenic views of B
 ushy Park. Socialise: Share a meal and introduce your business to like
 -minded professionals.\r\nJoin Us and Experience the Zoco Difference!\
 r\nCOST: FREE - but please pre-book so we know to expect you\r\nBOOKIN
 G: Please CLICK HERE to book for either or both sessions\r\nMAP\r\nPar
 king in the Diana Fountain Car Park is free, subject to availability 
 \n\nFor more information visit https://networkinginsurrey.co.uk/events
 /zoco-live-free-morning-netwalk-and-picnic-kingston
DTSTART;TZID=Europe/London:20240807T110000
DTEND;TZID=Europe/London:20240807T140000
CATEGORIES:zoco, dorking
LOCATION:Diana Fountain Car Park
WEBSITE:
URL:
CONTACT:
ORGANIZER;CN="Nick Blanchard":https://networkinginsurrey.co.uk/profile
 /NickBlanchard
ATTACH;FMTTYPE="image/jpeg":https://storage.ning.com/topology/rest/1.0
 /file/get/11129797461?profile=original
ATTENDEE;ROLE=REQ-PARTICIPANT;PARTSTAT=ACCEPTED;RSVP=TRUE;CN="Nick Bla
 nchard":https://networkinginsurrey.co.uk/profile/NickBlanchard
END:VEVENT
END:VCALENDAR
