BEGIN:VCALENDAR
PRODID:NingEventWidget-v1
VERSION:2.0
METHOD:PUBLISH
BEGIN:VTIMEZONE
TZID:Europe/London
X-LIC-LOCATION:Europe/London
BEGIN:DAYLIGHT
TZOFFSETFROM:+0000
TZOFFSETTO:+0100
TZNAME:BST
DTSTART:19700329T010000
RRULE:FREQ=YEARLY;BYMONTH=3;BYDAY=-1SU
END:DAYLIGHT
BEGIN:STANDARD
TZOFFSETFROM:+0100
TZOFFSETTO:+0000
TZNAME:GMT
DTSTART:19701025T020000
RRULE:FREQ=YEARLY;BYMONTH=10;BYDAY=-1SU
END:STANDARD
END:VTIMEZONE
BEGIN:VEVENT
UID:4626108:Event:530424
DTSTAMP:20260420T004114Z
SUMMARY:Zoco Live! Morning Networking, Reigate
DESCRIPTION:Zoco Live! Morning Networking at Hartsfield Manor \r\n\r\
 nZoco stands for Zoom + Coffee!\r\nJoint Group Honchos Anita Wisdom & 
 Fiona Clark welcome you to the Reigate Zoco Business Networking event.
 \r\nWe officially launched in August 2020 after a few months of free m
 eetings to support people during lockdown. Whilst the Founder Nick is 
 based in Hampton, South West London, we now have visitors from all ove
 r the world visiting us each week, many able to do business completely
  online so not tied to geographic limitations.\r\nNow we are also star
 ting to run new in-person local groups, so welcome to the Reigate grou
 p.\r\nFor the online sessions, we don't mind where you join from! Most
  of us tend to be based in the SW London and Surrey  area as this is 
 where it started and where Nick the founder is based. For this session
  as it's one of our first in-person sessions, obviously you'll need to
  be fairly close to the Reigate area!\r\nBuilding relationships is cri
 tical not only for business success but also for our mental health. We
  always encourage our members to set up 1-1 calls with each other outs
 ide of the official meetings.\r\nCOST: £10 in advance or cash on the 
 door\r\nBOOKING: Please CLICK HERE to book your place - a Zoom link wi
 ll be sent to you before the event\r\nMAP\r\n-------------------------
 --------------------------------\r\nFounder Nick Blanchard.says: I ru
 n informal online groups. I wouldn't call it networking exactly, thoug
 h we are a supportive network, but without the formalities, strict str
 uctures, rules and constant selling!\r\n…..click here for the Zoco 
 story so far….The BEST Facebook Networking group is here….. PLEAS
 E JOIN!\n\nFor more information visit https://networkinginsurrey.co.uk
 /events/zoco-live-evening-networking-reigate-1
DTSTART;TZID=Europe/London:20211102T100000
DTEND;TZID=Europe/London:20211102T120000
CATEGORIES:evening, online, reigate, zoco
LOCATION:Hartsfield Manor RH3 7AA
WEBSITE:
URL:
CONTACT:
ORGANIZER;CN="Anita Wisdom":https://networkinginsurrey.co.uk/profile/A
 nitaWisdom9
ATTACH;FMTTYPE="image/jpeg":https://storage.ning.com/topology/rest/1.0
 /file/get/9539702672?profile=original
ATTENDEE;ROLE=REQ-PARTICIPANT;PARTSTAT=ACCEPTED;RSVP=TRUE;CN="Anita Wi
 sdom":https://networkinginsurrey.co.uk/profile/AnitaWisdom9
END:VEVENT
END:VCALENDAR
