BEGIN:VCALENDAR
PRODID:NingEventWidget-v1
VERSION:2.0
METHOD:PUBLISH
BEGIN:VTIMEZONE
TZID:Europe/London
X-LIC-LOCATION:Europe/London
BEGIN:DAYLIGHT
TZOFFSETFROM:+0000
TZOFFSETTO:+0100
TZNAME:BST
DTSTART:19700329T010000
RRULE:FREQ=YEARLY;BYMONTH=3;BYDAY=-1SU
END:DAYLIGHT
BEGIN:STANDARD
TZOFFSETFROM:+0100
TZOFFSETTO:+0000
TZNAME:GMT
DTSTART:19701025T020000
RRULE:FREQ=YEARLY;BYMONTH=10;BYDAY=-1SU
END:STANDARD
END:VTIMEZONE
BEGIN:VEVENT
UID:4626108:Event:36259
DTSTAMP:20260421T162852Z
SUMMARY:MEMBER PROMO: Google Places Morning Workshop, Walton on Thames
DESCRIPTION:Google Local Search & Google Places Workshop at Forsyth Ho
 use\n\nIf someone searches for your services in your local area, does 
 your business come up on Google's local map?  \nNo? well this 2 hour
  workshop is just for you!\nYou will learn :\n\nWhy Local Search is im
 portant and how it works\nHow to claim your Places page\nHow to optimi
 se your Places page\nThe most important aspects to focus on\nHow your 
 website could help your Local listing\n\nYou will gain practical advic
 e and guidance, to help your business appear on the elusive page 1 map
 !  \nWho would benefit?\n\nBusinesses who are not appearing on page 
 1 of a local search result or on the map\nBusinesses who want to attra
 ct more people searching for your services in your local area\n\nHere'
 s why its important!\n\"Even this morning I had a call from a company 
 wanting some headshots.  He had Googled Beaconsfield photographer and
  there I was, right at the top! And amazingly, I even come up for Buck
 inghamshire now\"\nDon't miss out on all those people looking for YOUR
  services in YOUR local area - join our workshop on the 22 November an
 d learn what you need to do.\nCOST: just £49.95 (+VAT)\nBOOKING: To b
 ook or find out more information, please call 07515 911092 or email we
 ndy@wendychamier.co.uk\nCLICK HERE FOR MORE INFO\nMAP\n \n\nFor more 
 information visit https://networkinginsurrey.co.uk/events/workshop-goo
 gle-places
DTSTART;TZID=Europe/London:20111122T103000
DTEND;TZID=Europe/London:20111122T123000
CATEGORIES:workshop, walton, morning
LOCATION:Forsyth House KT12 2TD
WEBSITE:http://www.forsyth.co.uk/location/walton-on-thames
URL:http://www.forsyth.co.uk/location/walton-on-thames
CONTACT:07515 911092
ORGANIZER;CN="Wendy Chamier":https://networkinginsurrey.co.uk/profile/
 WendyChamier
ATTACH;FMTTYPE="image/jpeg":http://storage.ning.com/topology/rest/1.0/
 file/get/2591415776?profile=original
ATTENDEE;ROLE=REQ-PARTICIPANT;PARTSTAT=ACCEPTED;RSVP=TRUE;CN="Wendy Ch
 amier":https://networkinginsurrey.co.uk/profile/WendyChamier
END:VEVENT
END:VCALENDAR
