BEGIN:VCALENDAR
PRODID:NingEventWidget-v1
VERSION:2.0
METHOD:PUBLISH
BEGIN:VTIMEZONE
TZID:Europe/London
X-LIC-LOCATION:Europe/London
BEGIN:DAYLIGHT
TZOFFSETFROM:+0000
TZOFFSETTO:+0100
TZNAME:BST
DTSTART:19700329T010000
RRULE:FREQ=YEARLY;BYMONTH=3;BYDAY=-1SU
END:DAYLIGHT
BEGIN:STANDARD
TZOFFSETFROM:+0100
TZOFFSETTO:+0000
TZNAME:GMT
DTSTART:19701025T020000
RRULE:FREQ=YEARLY;BYMONTH=10;BYDAY=-1SU
END:STANDARD
END:VTIMEZONE
BEGIN:VEVENT
UID:4626108:Event:96383
DTSTAMP:20260423T013314Z
SUMMARY:Wonderful World of Wellbeing Indoor Festival
DESCRIPTION: Wonderful World of Wellbeing Festival at Kempton Park \r
 \n\r\nHello and welcome to the Wonderful World of Wellbeing Festival a
 t Kempton Park. \r\nThis unique, indoor festival will be held in Londo
 n for the first time and we are delighted to have Kempton Park Racecou
 rse as our host venue. Set in acres of stunning countryside with breat
 htaking views across the racecourse, it is great venue.  The festival
  takes place over the weekend of the 12th & 13th May​​ 2018. Door
 s will be open to visitors from 10am – 5pm on both days and all talk
 s and workshops are included in the entry ticket price\r\nWe are extre
 mely delighted to present a truly passionate and expert wellbeing fest
 ival which will play host to providers from around the region and beyo
 nd during the weekend. Visitors will have access to suppliers; therapi
 sts; creators; and educators with healthy living options to support th
 e growth and further development of wellbeing on an individual level. 
 \r\nIncluding our precious ones too, we have designated mindful sensor
 y areas set up for children to engage and experience first hand mindfu
 l activities. Workshops are also provided suitable for children from
  6 - 14 years. U14's enjoy FREE entry when accompanied with a adult t
 icket holder. \r\nFor more details please visit our website here...\r
 \nCOST: £8 (accompanied Under-14s free)\r\nBOOKING: Please CLICK HERE
  to register to attend\r\nMAP\r\nVENUE\r\nFREE PARKING in Kempton Park
 's spacious car parks\r\n\n\nFor more information visit https://networ
 kinginsurrey.co.uk/events/wonderful-world-of-wellbeing-indoor-festival
DTSTART;TZID=Europe/London:20180512T100000
DTEND;TZID=Europe/London:20180513T170000
CATEGORIES:wellbeing, indoor, festival
LOCATION:Kempton Park Racecourse TW16 5AQ
WEBSITE:
URL:
CONTACT:
ORGANIZER;CN="Diane Mitchell":https://networkinginsurrey.co.uk/profile
 /DianeMitchell
ATTACH;FMTTYPE="image/jpeg":http://storage.ning.com/topology/rest/1.0/
 file/get/2591469389?profile=original
ATTENDEE;ROLE=REQ-PARTICIPANT;PARTSTAT=ACCEPTED;RSVP=TRUE;CN="Lord Ham
 ilton of Glencoe":https://networkinginsurrey.co.uk/profile/BrianIanHam
 ilton
ATTENDEE;ROLE=REQ-PARTICIPANT;PARTSTAT=ACCEPTED;RSVP=TRUE;CN="Diane Mi
 tchell":https://networkinginsurrey.co.uk/profile/DianeMitchell
END:VEVENT
END:VCALENDAR
