BEGIN:VCALENDAR
PRODID:NingEventWidget-v1
VERSION:2.0
METHOD:PUBLISH
BEGIN:VTIMEZONE
TZID:Europe/London
X-LIC-LOCATION:Europe/London
BEGIN:DAYLIGHT
TZOFFSETFROM:+0000
TZOFFSETTO:+0100
TZNAME:BST
DTSTART:19700329T010000
RRULE:FREQ=YEARLY;BYMONTH=3;BYDAY=-1SU
END:DAYLIGHT
BEGIN:STANDARD
TZOFFSETFROM:+0100
TZOFFSETTO:+0000
TZNAME:GMT
DTSTART:19701025T020000
RRULE:FREQ=YEARLY;BYMONTH=10;BYDAY=-1SU
END:STANDARD
END:VTIMEZONE
BEGIN:VEVENT
UID:4626108:Event:103206
DTSTAMP:20260424T161644Z
SUMMARY:NEW: Women's Business Networking Evening, Weybridge
DESCRIPTION:Women's Business Networking Evening at the Hand and Spear\
 r\n\r\nWomen's Business Network Surrey is passionate about helping fem
 ale led startups and small business owners come together to motivate a
 nd inspire whilst discussing key challenges faced when trying to grow 
 a business.\r\nFollowing the success of our event in December and hear
 ing such positive feedback, we are running another informal networking
  event this month for female business owners in Surrey.\r\nJoin us on 
 January 31st 6pm-8pm for an informal get together and chat with other 
 like minded business owners. Learn valuable insights from our guest sp
 eaker  on 'Creating a mindset for achieving and goal setting to help 
 win business'  followed by informal networking drinks with other fema
 le startups and small businesses within Surrey.\r\nSo what can you exp
 ect from the evening?\r\nOur guest speaker will touch on the following
 :\r\n - The ‘New Year’ Mindset – Increase Self-Confidence\r\n 
 - Achieve the things that are important to you through goal setting\r\
 n - Creating a balance that motivates you.\r\n - Selling yourself to
  new clients with confidence – Top Tips!\r\nRegister now and join ot
 her like minded people, learn, have a drink and chat in these informal
  surroundings.....\r\nCOST: £11.25 meeting fee \r\nBOOKING: Pleas
 e CLICK HERE to register to attend\r\nMAP\r\n\n\nFor more informatio
 n visit https://networkinginsurrey.co.uk/events/women-s-business-netwo
 rking-surrey
DTSTART;TZID=Europe/London:20190131T180000
DTEND;TZID=Europe/London:20190131T200000
CATEGORIES:business, networking
LOCATION:The Private Dining Room, The Hand and Spear
WEBSITE:https://www.handandspear.co.uk/
URL:https://www.handandspear.co.uk/
CONTACT:
ORGANIZER;CN="Theresa Onley":https://networkinginsurrey.co.uk/profile/
 TheresaOnley
ATTACH;FMTTYPE="image/jpeg":https://storage.ning.com/topology/rest/1.0
 /file/get/787169854?profile=original
ATTENDEE;ROLE=REQ-PARTICIPANT;PARTSTAT=ACCEPTED;RSVP=TRUE;CN="Theresa 
 Onley":https://networkinginsurrey.co.uk/profile/TheresaOnley
END:VEVENT
END:VCALENDAR
