BEGIN:VCALENDAR
PRODID:NingEventWidget-v1
VERSION:2.0
METHOD:PUBLISH
BEGIN:VTIMEZONE
TZID:Europe/London
X-LIC-LOCATION:Europe/London
BEGIN:DAYLIGHT
TZOFFSETFROM:+0000
TZOFFSETTO:+0100
TZNAME:BST
DTSTART:19700329T010000
RRULE:FREQ=YEARLY;BYMONTH=3;BYDAY=-1SU
END:DAYLIGHT
BEGIN:STANDARD
TZOFFSETFROM:+0100
TZOFFSETTO:+0000
TZNAME:GMT
DTSTART:19701025T020000
RRULE:FREQ=YEARLY;BYMONTH=10;BYDAY=-1SU
END:STANDARD
END:VTIMEZONE
BEGIN:VEVENT
UID:4626108:Event:39014
DTSTAMP:20260421T023719Z
SUMMARY:WIBN Lunch, Dorking
DESCRIPTION:Women in Business Network Lunch at Denbies\n\nWe offer all
  business women and business owners the opportunity to meet with like 
 minded women, once a month at our facilitated network meetings. Our me
 mbers support and encourage each other through collaboration and the s
 haring of business contacts and opportunities.\nAll our group meetings
  welcome new visitors! We are friendly and welcoming at WIBN and our m
 eetings thrive when new businesses visit. Come and meet us over lunch 
 and see how WIBN can help you to develop your business!\nCOST:£20 for
  WIBN Members, £24 for Visitors\nBOOKING: To attend as a Visitor ple
 ase call Lynne Jones on 0844 324 4028 or mobile 07785 502635 or email 
 lynne.jones@wibn.co.uk This e-mail address is being protected from spa
 mbots. You need JavaScript enabled to view it\nMAP\nDIRECTIONS\n------
 ----------------------------------------------\nWIBN is a Business Net
 working organisation for women only. It is a network created for women
 , by women.  We have a wide diversity of professions in our membershi
 p ranging from sole traders to large business organisations. We appeal
  to women who are serious about networking their business and are driv
 en to grow their business through monthly contact with other business 
 focussed individuals. We are a one profession per group organisation.\
 n\nFor more information visit https://networkinginsurrey.co.uk/events/
 women-in-business-network-wibn-lunch-dorking
DTSTART;TZID=Europe/London:20111213T120000
DTEND;TZID=Europe/London:20111213T140000
CATEGORIES:lunch, wibn, dorking
LOCATION:Denbies Wine Estate RH5 6AA
WEBSITE:http://www.wibn.co.uk/events/details/564-wibn-dorking
URL:http://www.wibn.co.uk/events/details/564-wibn-dorking
CONTACT:0844 324 4028
ORGANIZER:Lynne Jones
ATTACH;FMTTYPE="image/jpeg":http://storage.ning.com/topology/rest/1.0/
 file/get/2591403708?profile=original
ATTENDEE;ROLE=REQ-PARTICIPANT;PARTSTAT=ACCEPTED;RSVP=TRUE;CN="Keith Gr
 over, NiS Founder":https://networkinginsurrey.co.uk/profile/KeithGrove
 r
END:VEVENT
END:VCALENDAR
