BEGIN:VCALENDAR
PRODID:NingEventWidget-v1
VERSION:2.0
METHOD:PUBLISH
BEGIN:VTIMEZONE
TZID:Europe/London
X-LIC-LOCATION:Europe/London
BEGIN:DAYLIGHT
TZOFFSETFROM:+0000
TZOFFSETTO:+0100
TZNAME:BST
DTSTART:19700329T010000
RRULE:FREQ=YEARLY;BYMONTH=3;BYDAY=-1SU
END:DAYLIGHT
BEGIN:STANDARD
TZOFFSETFROM:+0100
TZOFFSETTO:+0000
TZNAME:GMT
DTSTART:19701025T020000
RRULE:FREQ=YEARLY;BYMONTH=10;BYDAY=-1SU
END:STANDARD
END:VTIMEZONE
BEGIN:VEVENT
UID:4626108:Event:1580
DTSTAMP:20260425T201335Z
SUMMARY:Women in Business Lunch, Woking
DESCRIPTION:\nThe Women in Business Network is a networking organisati
 on for employed and self-employed business women.\nOur members meet on
  a monthly basis at lunch time, to pass contacts and referred business
 .\nCOST\n£22 non-member - £18 member\nBOOK HERE\nTo book onto a meet
 ing please contact Nicola Rolfe on nicola@wibn.co.uk or call 0845 004 
 9426\n\nVENUE\nDIRECTIONS\n-----------------------------\nWIBN is a Bu
 siness Networking organisation for women only. It is a network created
  for women, by women. We offer all business women and business owners 
 the opportunity to meet with like minded women, once a month at our fa
 cilitated network meetings. We have a wide diversity of professions in
  our membership ranging from sole traders to large business organisati
 ons. We appeal to women who are serious about networking their busines
 s and are driven to grow their business through monthly contact with o
 ther business focussed individuals. We are a one profession per group 
 organisation.\n\nFor more information visit https://networkinginsurrey
 .co.uk/events/women-in-business-lunch-woking-1
DTSTART;TZID=Europe/London:20100407T120000
DTEND;TZID=Europe/London:20100407T140000
CATEGORIES:lunch, woking, women, women_in_business
LOCATION:De Vere Hotel, Woking GU22 0QH
WEBSITE:http://www.wibn.co.uk/
URL:http://www.wibn.co.uk/
CONTACT:0845 0049426
ORGANIZER:Jan Ibbott
ATTACH;FMTTYPE="image/jpeg":http://storage.ning.com/topology/rest/1.0/
 file/get/2591375905?profile=original
END:VEVENT
END:VCALENDAR
