BEGIN:VCALENDAR
PRODID:NingEventWidget-v1
VERSION:2.0
METHOD:PUBLISH
BEGIN:VTIMEZONE
TZID:Europe/London
X-LIC-LOCATION:Europe/London
BEGIN:DAYLIGHT
TZOFFSETFROM:+0000
TZOFFSETTO:+0100
TZNAME:BST
DTSTART:19700329T010000
RRULE:FREQ=YEARLY;BYMONTH=3;BYDAY=-1SU
END:DAYLIGHT
BEGIN:STANDARD
TZOFFSETFROM:+0100
TZOFFSETTO:+0000
TZNAME:GMT
DTSTART:19701025T020000
RRULE:FREQ=YEARLY;BYMONTH=10;BYDAY=-1SU
END:STANDARD
END:VTIMEZONE
BEGIN:VEVENT
UID:4626108:Event:3820
DTSTAMP:20260425T214637Z
SUMMARY:Women in Business Expert Advice Panel Evening, Weybridge
DESCRIPTION:Expert Business Advice Panel Evening at The Ship, Weybridg
 e\n\nOur September event includes a session with a panel of local busi
 ness experts who will be giving YOU sales, marketing and general busin
 ess advice.\nWe foster mutual support for local female professionals f
 rom all industries and companies of all sizes based in and around Elmb
 ridge. This widely publicised event will attract new visitors for form
 al and informal networking and time to socialise over a light supper. 
 Make new contacts to widen your network, and benefit from valuable bus
 iness advice!\nYour Panel of Experts:\n\nEmma Wimhurst (www.emmawimhur
 st.co.uk) is a self-made millionaire from the founding, growing and se
 lling of Diva own-labelled cosmetics into high street clothes chains. 
 Emma has become a hugely successful business coach, mentor, author and
  inspirational speaker; all of which she balances with the demands of 
 her three children.\nFiona Humberstone (www.flourishstudios.co.uk) is 
 passionate about helping companies to flourish by creating engaging br
 and identities and powerful marketing campaigns and strategies. She ru
 ns design and marketing agency Flourish and Guildford printing.com, wh
 ile speaking, blogging, writing and coping with her young family.\nAma
 nda Fisackerly (www.fizz-biz.com) runs her own sales and marketing con
 sultancy, Fizz.biz in Weybridge, helping clients win more business thr
 ough a mix of lead generation, sales appointment setting, sales traini
 ng and coaching services aimed squarely at sales, marketing and operat
 ions.\nSandy Scott (www.viveutvitas.co.uk) is driven by her desire for
  knowledge about human potential and by helping clients to make the mo
 st of their lives. She uses her knowledge from extensive study and cor
 porate experience to specialise in coaching others through major life 
 changes and in particular, working with teenagers going through transi
 tions\n\nBOOK HERE Members of EWiB £10; Visitors £20 (please see our
  offer...)\nExclusively for this special event MEMBERS of Elmbridge Wo
 men in Business can invite unlimited guests along at the members price
  of £10. Just let us know who you wish to bring by email to info@ewib
 .co.uk and your guests can pay on the door at the event.\nVENUE\nMAP\n
 DIRECTIONS\nThere is limited parking in The Ship's own car park (often
  tricky to negotiate when it's busy!) and on-street parking is free in
  the evening.\n\nFor more information visit https://networkinginsurrey
 .co.uk/events/women-in-business-expert
DTSTART;TZID=Europe/London:20100916T183000
DTEND;TZID=Europe/London:20100916T213000
CATEGORIES:evening, women, elmbridge_women_in_business, weybridge, bus
 iness_networking_surrey
LOCATION:The Ship Hotel, Weybridge KT13 8BQ
WEBSITE:http://www.ewib.co.uk
URL:http://www.ewib.co.uk
CONTACT:01932 820490
ORGANIZER:Amanda Fisackerly
ATTACH;FMTTYPE="image/jpeg":http://storage.ning.com/topology/rest/1.0/
 file/get/2591374802?profile=original
END:VEVENT
END:VCALENDAR
