BEGIN:VCALENDAR
PRODID:NingEventWidget-v1
VERSION:2.0
METHOD:PUBLISH
BEGIN:VTIMEZONE
TZID:Europe/London
X-LIC-LOCATION:Europe/London
BEGIN:DAYLIGHT
TZOFFSETFROM:+0000
TZOFFSETTO:+0100
TZNAME:BST
DTSTART:19700329T010000
RRULE:FREQ=YEARLY;BYMONTH=3;BYDAY=-1SU
END:DAYLIGHT
BEGIN:STANDARD
TZOFFSETFROM:+0100
TZOFFSETTO:+0000
TZNAME:GMT
DTSTART:19701025T020000
RRULE:FREQ=YEARLY;BYMONTH=10;BYDAY=-1SU
END:STANDARD
END:VTIMEZONE
BEGIN:VEVENT
UID:4626108:Event:866
DTSTAMP:20260425T225952Z
SUMMARY:Women in Business 2010, Cobham
DESCRIPTION:*****************************************\nTHIS EVENT HAS 
 BEEN CANCELLED\n*****************************************\n\nFor more 
 information visit https://networkinginsurrey.co.uk/events/women-in-bus
 iness-2010-cobham-1
DTSTART;TZID=Europe/London:20100610T100000
DTEND;TZID=Europe/London:20100610T170000
CATEGORIES:women, exhibition, seminars
LOCATION:Hilton Hotel, Cobham / Weybridge KT11 1EW
WEBSITE:http://carolinewalshevents.co.uk/
URL:http://carolinewalshevents.co.uk/
CONTACT:07530 338068
ORGANIZER:Caroline Walsh
ATTACH;FMTTYPE="image/jpeg":http://storage.ning.com/topology/rest/1.0/
 file/get/2591380478?profile=original
ATTENDEE;ROLE=REQ-PARTICIPANT;PARTSTAT=ACCEPTED;RSVP=TRUE;CN="Anne-Mar
 ie Stephens":https://networkinginsurrey.co.uk/profile/AnneMarieStephen
 s
ATTENDEE;ROLE=REQ-PARTICIPANT;PARTSTAT=ACCEPTED;RSVP=TRUE;CN="Robyn Ha
 tley":https://networkinginsurrey.co.uk/profile/RobynHatley
ATTENDEE;ROLE=REQ-PARTICIPANT;PARTSTAT=ACCEPTED;RSVP=TRUE;CN="Caroline
  Walsh":https://networkinginsurrey.co.uk/profile/CarolineWalsh
ATTENDEE;ROLE=REQ-PARTICIPANT;PARTSTAT=TENTATIVE;RSVP=TRUE;CN="Simone 
 Phillips":https://networkinginsurrey.co.uk/profile/SimonePhillips
END:VEVENT
END:VCALENDAR
