BEGIN:VCALENDAR
PRODID:NingEventWidget-v1
VERSION:2.0
METHOD:PUBLISH
BEGIN:VTIMEZONE
TZID:Europe/London
X-LIC-LOCATION:Europe/London
BEGIN:DAYLIGHT
TZOFFSETFROM:+0000
TZOFFSETTO:+0100
TZNAME:BST
DTSTART:19700329T010000
RRULE:FREQ=YEARLY;BYMONTH=3;BYDAY=-1SU
END:DAYLIGHT
BEGIN:STANDARD
TZOFFSETFROM:+0100
TZOFFSETTO:+0000
TZNAME:GMT
DTSTART:19701025T020000
RRULE:FREQ=YEARLY;BYMONTH=10;BYDAY=-1SU
END:STANDARD
END:VTIMEZONE
BEGIN:VEVENT
UID:4626108:Event:68844
DTSTAMP:20260420T210515Z
SUMMARY:FREE Woking Means Business Exhibition, Woking
DESCRIPTION:Woking Means Business at the HG Wells Centre\n\nWoking Mea
 ns Business 2014 is taking place on Wed 15th October at the HG Wells E
 vents Conference and Events Centre in Woking Town Centre.\nWith over 6
 0 exhibitors from a wide variety of companies and organisations, the s
 how is an excellent opportunity to meet new local businesses, find sup
 pliers and make connections.\n\nWe have a full seminar program includi
 ng a breakfast meeting run by Woking Borough Council, a keynote speech
  on the customer experience, and masterclasses in marketing, lead gene
 ration and leadership. There will also be Ask the Expert 1-2-1 session
 s on startups, sales, social media, finance and more.\nCOST: completel
 y FREE to attend\nBOOKING: Register for your ticket and book on to an
 y seminars here.\nMAP\nThe nearest car park is The Victoria Way Car 
 Park, accessed next to The Holiday Inn in Victoria Way. The venue can 
 then be reached at the far end of the car park by crossing Church Stre
 et East or via level 4 by the foot bridge direct into the reception ar
 ea of the exhibition. The HG Wells Conference & Events Centre is just 
 a few minutes walk from Woking Station.\n\nFor more information visit 
 https://networkinginsurrey.co.uk/events/woking-means-business-exhibiti
 on
DTSTART;TZID=Europe/London:20141015T093000
DTEND;TZID=Europe/London:20141015T163000
CATEGORIES:exhibition
LOCATION:HG Wells Centre GU21 6HJ
WEBSITE:http://wokingmeansbusiness.com/
URL:http://wokingmeansbusiness.com/
CONTACT:01344 304268
ORGANIZER:Paul Webster
ATTACH;FMTTYPE="image/jpeg":http://storage.ning.com/topology/rest/1.0/
 file/get/2591434645?profile=original
ATTENDEE;ROLE=REQ-PARTICIPANT;PARTSTAT=ACCEPTED;RSVP=TRUE;CN="Becky La
 dley":https://networkinginsurrey.co.uk/profile/BeckyLadley
END:VEVENT
END:VCALENDAR
