BEGIN:VCALENDAR
PRODID:NingEventWidget-v1
VERSION:2.0
METHOD:PUBLISH
BEGIN:VTIMEZONE
TZID:Europe/London
X-LIC-LOCATION:Europe/London
BEGIN:DAYLIGHT
TZOFFSETFROM:+0000
TZOFFSETTO:+0100
TZNAME:BST
DTSTART:19700329T010000
RRULE:FREQ=YEARLY;BYMONTH=3;BYDAY=-1SU
END:DAYLIGHT
BEGIN:STANDARD
TZOFFSETFROM:+0100
TZOFFSETTO:+0000
TZNAME:GMT
DTSTART:19701025T020000
RRULE:FREQ=YEARLY;BYMONTH=10;BYDAY=-1SU
END:STANDARD
END:VTIMEZONE
BEGIN:VEVENT
UID:4626108:Event:69118
DTSTAMP:20260422T142558Z
SUMMARY:Woking Connections Lunch, Woking
DESCRIPTION:Woking Connections at Goldsworth Park\n\nWoking Connection
 s is the business networking event that takes place on the first Thurs
 day of each month at the Dianthus building in Goldsworth Park.\nWatch 
 our video here\nThe event is free to members of thebestofwoking, exce
 pt for the £20 lunch contribution.\nVisitors are very welcome and can
  attend free of charge for two visits, apart from a £20 contribution 
 to cover lunch.\nNon members of thebestofwoking  can then choose to p
 ay £195 plus VAT to attend 12 networking events or if they qualify to
  join thebestofwoking, all events are included in their subscription.\
 nIf you would like to attend, please confirm by email. \nThe lunch co
 ntribution can be made in cash, credit card or cheque made out to The 
 Best of Woking Limited\nCome along and make some new contacts!\nCOST: 
 £20 including lunch\nBOOKING: Please CLICK HERE to book your place (
 using the email form link in the Visit Us box)\nMAP\n-----------------
 --\n\n\n\nFor more information visit https://networkinginsurrey.co.uk/
 events/woking-connections-lunch-woking-1
DTSTART;TZID=Europe/London:20141204T103000
DTEND;TZID=Europe/London:20141204T123000
CATEGORIES:business, networking
LOCATION:Dianthus Building, Goldsworth Park GU21 3RT
WEBSITE:http://www.thebestof.co.uk/local/woking/events/feature/woking-
 connections-business-networking-event
URL:http://www.thebestof.co.uk/local/woking/events/feature/woking-conn
 ections-business-networking-event
CONTACT:07793382061
ORGANIZER;CN="Adrian Keeling":https://networkinginsurrey.co.uk/profile
 /AdrianKeeling
ATTACH;FMTTYPE="image/jpeg":http://storage.ning.com/topology/rest/1.0/
 file/get/2591426331?profile=original
ATTENDEE;ROLE=REQ-PARTICIPANT;PARTSTAT=ACCEPTED;RSVP=TRUE;CN="Adrian K
 eeling":https://networkinginsurrey.co.uk/profile/AdrianKeeling
END:VEVENT
END:VCALENDAR
