BEGIN:VCALENDAR
PRODID:NingEventWidget-v1
VERSION:2.0
METHOD:PUBLISH
BEGIN:VTIMEZONE
TZID:Europe/London
X-LIC-LOCATION:Europe/London
BEGIN:DAYLIGHT
TZOFFSETFROM:+0000
TZOFFSETTO:+0100
TZNAME:BST
DTSTART:19700329T010000
RRULE:FREQ=YEARLY;BYMONTH=3;BYDAY=-1SU
END:DAYLIGHT
BEGIN:STANDARD
TZOFFSETFROM:+0100
TZOFFSETTO:+0000
TZNAME:GMT
DTSTART:19701025T020000
RRULE:FREQ=YEARLY;BYMONTH=10;BYDAY=-1SU
END:STANDARD
END:VTIMEZONE
BEGIN:VEVENT
UID:4626108:Event:539988
DTSTAMP:20260423T055903Z
SUMMARY:Connect Surrey Breakfast Live!  Ripley
DESCRIPTION:Connect Surrey Breakfast at The Talbot\r\n\r\nConnectSurre
 y is a local business networking organisation - we rune regular fortni
 ghtly meetings in Guildford, Dorking, Woking and Farnham.\r\nOur meeti
 ngs are fun, friendly but most importantly … productive… business 
 gets done! We always welcome new faces so why not come and join us as 
 visitor one day and make your own mind up.\r\nOur Woking meetings are 
 run by Abbie Sell &  Paul  Bridgland - Business should be fun!  COS
 T: £17.50 meeting fee including breakfast\r\nBOOKING: Please follow 
 this link...  to register for the meeting \r\nMAP\r\nFree parking in
  the Talbot's own car park\r\n\n\nFor more information visit https://n
 etworkinginsurrey.co.uk/events/woking-connections-live-breakfast-riple
 y-296
DTSTART;TZID=Europe/London:20231122T083000
DTEND;TZID=Europe/London:20231122T100000
CATEGORIES:breakfast, woking, connect_surrey
LOCATION:The Talbot Inn GU23 6BB
WEBSITE:
URL:
CONTACT:
ORGANIZER:Paul Bridgland and Jane Redhead-Loughe
ATTACH;FMTTYPE="image/jpeg":https://storage.ning.com/topology/rest/1.0
 /file/get/12293512469?profile=original
ATTENDEE;ROLE=REQ-PARTICIPANT;PARTSTAT=ACCEPTED;RSVP=TRUE;CN="Paul A B
 ridgland":https://networkinginsurrey.co.uk/profile/PaulABridgland
END:VEVENT
END:VCALENDAR
