BEGIN:VCALENDAR
PRODID:NingEventWidget-v1
VERSION:2.0
METHOD:PUBLISH
BEGIN:VTIMEZONE
TZID:Europe/London
X-LIC-LOCATION:Europe/London
BEGIN:DAYLIGHT
TZOFFSETFROM:+0000
TZOFFSETTO:+0100
TZNAME:BST
DTSTART:19700329T010000
RRULE:FREQ=YEARLY;BYMONTH=3;BYDAY=-1SU
END:DAYLIGHT
BEGIN:STANDARD
TZOFFSETFROM:+0100
TZOFFSETTO:+0000
TZNAME:GMT
DTSTART:19701025T020000
RRULE:FREQ=YEARLY;BYMONTH=10;BYDAY=-1SU
END:STANDARD
END:VTIMEZONE
BEGIN:VEVENT
UID:4626108:Event:101336
DTSTAMP:20260422T025031Z
SUMMARY:Woking Connections Breakfast
DESCRIPTION:Woking Connections at the HG Wells Centre\n\nCome and join
  us for some high-powered networking in the heart of Woking at the leg
 endary HG Wells Centre – Meetings start at 8.30 am (although we sugg
 est you arrive for 8.00) and run until 10.30.\nApart from enjoying a f
 un and friendly meeting, you’ll enjoy a great breakfast and on top o
 f that, parking in the multi-storey next to HG Wells is provided court
 esy of Woking Council – … simply present your parking ticket for v
 alidation at the end of the meeting and you can exit for free.\nWe hop
 e you can join us.\nCOST: £15 including breakfast - payable on-line
  or on the door.\nBOOKING: Please CLICK HERE to book\nMAP\nParking i
 n the multi-storey next to HG Wells is provided courtesy of Woking Cou
 ncil – present your parking ticket for validation at the end of the 
 meeting and you can exit for free.\n\nFor more information visit https
 ://networkinginsurrey.co.uk/events/woking-connections-breakfast
DTSTART;TZID=Europe/London:20181026T180000
DTEND;TZID=Europe/London:20181026T190000
CATEGORIES:breakfast, woking, connect_surrey
LOCATION:HG Wells Centre GU21 6HJ
WEBSITE:
URL:
CONTACT:
ORGANIZER;CN="Paul A Bridgland":https://networkinginsurrey.co.uk/profi
 le/PaulABridgland
ATTACH;FMTTYPE="image/jpeg":http://storage.ning.com/topology/rest/1.0/
 file/get/254420843?profile=original
ATTENDEE;ROLE=REQ-PARTICIPANT;PARTSTAT=ACCEPTED;RSVP=TRUE;CN="Paul A B
 ridgland":https://networkinginsurrey.co.uk/profile/PaulABridgland
END:VEVENT
END:VCALENDAR
