BEGIN:VCALENDAR
PRODID:NingEventWidget-v1
VERSION:2.0
METHOD:PUBLISH
BEGIN:VTIMEZONE
TZID:Europe/London
X-LIC-LOCATION:Europe/London
BEGIN:DAYLIGHT
TZOFFSETFROM:+0000
TZOFFSETTO:+0100
TZNAME:BST
DTSTART:19700329T010000
RRULE:FREQ=YEARLY;BYMONTH=3;BYDAY=-1SU
END:DAYLIGHT
BEGIN:STANDARD
TZOFFSETFROM:+0100
TZOFFSETTO:+0000
TZNAME:GMT
DTSTART:19701025T020000
RRULE:FREQ=YEARLY;BYMONTH=10;BYDAY=-1SU
END:STANDARD
END:VTIMEZONE
BEGIN:VEVENT
UID:4626108:Event:100943
DTSTAMP:20260422T043227Z
SUMMARY:Woking Connections Breakfast
DESCRIPTION:Woking Connections at The HG Wells Centre\r\n\r\n\r\nOur 
 FORTNIGHTLY MEETINGS are run by Sally Castro Gouveia and & Tim Brache
 r, with relaxed, fun, friendly networking (that produces results).\r\n
 Our meetings are for local business people who don't do (very) early m
 ornings, can't make a weekly commitment and don't believe in exclusivi
 ty for member categories.\r\nVisitors are welcome to come along and ch
 eck us out two or three times with absolutely no commitment or expecta
 tion to join - you'll know if it's right for you but we can guarantee 
 you that you'll receive a very warm welcome wherever you attend ... co
 me and give us a try!\r\nBusiness should be fun!\r\n\r\n\r\nCOST: £1
 5 including breakfast - payable on-line or on the door.\r\nBOOKING: P
 lease CLICK HERE to book\r\nMAP\n\nFor more information visit https:
 //networkinginsurrey.co.uk/events/woking-connections-breakfast-woking-
 centre
DTSTART;TZID=Europe/London:20181002T080000
DTEND;TZID=Europe/London:20181002T103000
CATEGORIES:regular, business, networking, meeting
LOCATION:HG Wells Centre
WEBSITE:https://www.hgwells.co.uk/
URL:https://www.hgwells.co.uk/
CONTACT:07525738758
ORGANIZER:Sally Castro Gouveia
ATTACH;FMTTYPE="image/jpeg":http://storage.ning.com/topology/rest/1.0/
 file/get/2591476152?profile=original
ATTENDEE;ROLE=REQ-PARTICIPANT;PARTSTAT=ACCEPTED;RSVP=TRUE;CN="Paul A B
 ridgland":https://networkinginsurrey.co.uk/profile/PaulABridgland
END:VEVENT
END:VCALENDAR
