BEGIN:VCALENDAR
PRODID:NingEventWidget-v1
VERSION:2.0
METHOD:PUBLISH
BEGIN:VTIMEZONE
TZID:Europe/London
X-LIC-LOCATION:Europe/London
BEGIN:DAYLIGHT
TZOFFSETFROM:+0000
TZOFFSETTO:+0100
TZNAME:BST
DTSTART:19700329T010000
RRULE:FREQ=YEARLY;BYMONTH=3;BYDAY=-1SU
END:DAYLIGHT
BEGIN:STANDARD
TZOFFSETFROM:+0100
TZOFFSETTO:+0000
TZNAME:GMT
DTSTART:19701025T020000
RRULE:FREQ=YEARLY;BYMONTH=10;BYDAY=-1SU
END:STANDARD
END:VTIMEZONE
BEGIN:VEVENT
UID:4626108:Event:96079
DTSTAMP:20260423T022913Z
SUMMARY:Woking Connections Breakfast, Woking
DESCRIPTION:Woking Connections Breakfast at the HG Wells Centre\r\n\r\
 nThe Woking Group meeting starts at 8.30 but best to get there for 8.
 00 if you can ...a lot of useful networking happens before and aft
 er meetings!\r\nMost of our meetings last for 2 hours so around 10:30
  am am finish time ...please try to stay for the whole meeting if you 
 can, you'll get more from it if you are there for the whole event!\r\
 nThe HG Wells Centre is situated in the heart of Woking, it's less th
 an 5 minutes’ walk from Woking station and there's ample parking in
  the Victoria Way Car Park adjacent to the venue, linked by a covere
 d walkway.   If you're driving, follow the one-way system and head f
 or the Double Tree Hilton Hotel, turn off as if you are going into the
  hotel but carry on a little bit further until your reach the large mu
 lti-story car park on your left - you can park in there, there's a sho
 rt covered footway from the car park straight into the HG Wells Centr
 e on the 4th floor.\r\nPLUS THE COUNCIL HAVE PROVIDED FREE CAR PARKING
 \r\nThere's no doubt about it, Networking is THE most effective way 
 to find new customers. \r\n If you've not tried it before come and gi
 ve it a whirl ... we welcome visitors and you can attend two or three
  times without any commitment whatsoever - it's entirely up to you
 .  If you can see yourself fitting in then ... to get the most out of 
 it, you need to commit to making a regular appearance and that's why 
 we ask our members to be at each and every meeting.  However .... we 
 appreciate it's not always possible,  but.....we do ask you to try to
  organise a Substitute  (we have a list of possible Subs if you’re 
 stuck) - try to let us know, we'll do our best to help you find someon
 e to come in your place. ... (it can't be someone already in the group
  for obvious reasons).  The whole idea is to ensure that you have a 
 consistent presence and that your colleagues can benefit from a decent
  turnout even though you can't make it.   Come and join us! We welcom
 e visitors ... if possible book in advance but if in doubt just turn u
 p, you won't be turned away!\r\nCOST: £15 meeting fee including break
 fast\r\nBOOKING: Please CLICK HERE to book or for more info please c
 ontact Sally on 01483 332087 or email: sally@connectsurrey.uk\r\nMAP\
 r\n(Victoria Way Multi-storey) - FREE PARKING exclusively for Woking C
 onnections attendees!\n\nFor more information visit https://networking
 insurrey.co.uk/events/woking-connections-breakfast-woking-1
DTSTART;TZID=Europe/London:20180206T083000
DTEND;TZID=Europe/London:20180206T103000
CATEGORIES:networking
LOCATION:HG Wells Conference &amp; Events Centre
WEBSITE:http://connectsurrey.uk/woking-connections/
URL:http://connectsurrey.uk/woking-connections/
CONTACT:07525 738758
ORGANIZER;CN="Sally Castro Gouveia":https://networkinginsurrey.co.uk/p
 rofile/SallyCastroGouveia
ATTACH;FMTTYPE="image/jpeg":http://storage.ning.com/topology/rest/1.0/
 file/get/2591471430?profile=original
ATTENDEE;ROLE=REQ-PARTICIPANT;PARTSTAT=ACCEPTED;RSVP=TRUE;CN="Sally Ca
 stro Gouveia":https://networkinginsurrey.co.uk/profile/SallyCastroGouv
 eia
END:VEVENT
END:VCALENDAR
