BEGIN:VCALENDAR
PRODID:NingEventWidget-v1
VERSION:2.0
METHOD:PUBLISH
BEGIN:VTIMEZONE
TZID:Europe/London
X-LIC-LOCATION:Europe/London
BEGIN:DAYLIGHT
TZOFFSETFROM:+0000
TZOFFSETTO:+0100
TZNAME:BST
DTSTART:19700329T010000
RRULE:FREQ=YEARLY;BYMONTH=3;BYDAY=-1SU
END:DAYLIGHT
BEGIN:STANDARD
TZOFFSETFROM:+0100
TZOFFSETTO:+0000
TZNAME:GMT
DTSTART:19701025T020000
RRULE:FREQ=YEARLY;BYMONTH=10;BYDAY=-1SU
END:STANDARD
END:VTIMEZONE
BEGIN:VEVENT
UID:4626108:Event:409366
DTSTAMP:20260421T205943Z
SUMMARY:Woking Connections Breakfast, Ripley
DESCRIPTION:Woking Connections In-person at The Talbot\n\nPhysical mee
 tings at most of our venues will resume this month ... Hurrah!    BU
 T...\nIt's MEMBERS ONLY - NO VISITORS for now - sorry!\nOur Covid-safe
  venues will follow all the rules for business meetings,  with masks 
 worn except while eating or presenting, and contact details taken for 
 all attendees.\nMeetings start at 8.30 am (although we suggest you arr
 ive for 8.00) and run until 10.30.Apart from enjoying a fun and friend
 ly meeting, you’ll enjoy a great breakfast.\nCOST: £15 including 
 breakfast - payable on-line or on the door.\nBOOKING: Please CLICK HE
 RE to book (Members only for now...)\nMAP\nFree parking in the Talbot
 's own car park\n----------------------------\n***OPEN SPECIALS! We wi
 ll continue to run a FREE single weekly virtual meeting on Thursdays 
 for the foreseeable future alongside our normal meetings, for those wh
 o are unable or prefer not to resume just yet ... and these will be op
 en to all - Members and Visitors alike! You'll find our Thursday meet
 ings listed here on Networking in Surrey. ***\n\nFor more information 
 visit https://networkinginsurrey.co.uk/events/woking-connections-break
 fast-ripley-29
DTSTART;TZID=Europe/London:20200915T083000
DTEND;TZID=Europe/London:20200915T103000
CATEGORIES:breakfast, woking, connect_surrey
LOCATION:The Talbot Inn GU23 6BB
WEBSITE:
URL:
CONTACT:
ORGANIZER:Sally Castro Gouveia and Mark Elliott
ATTACH;FMTTYPE="image/jpeg":https://storage.ning.com/topology/rest/1.0
 /file/get/7898884675?profile=original
ATTENDEE;ROLE=REQ-PARTICIPANT;PARTSTAT=ACCEPTED;RSVP=TRUE;CN="Paul A B
 ridgland":https://networkinginsurrey.co.uk/profile/PaulABridgland
END:VEVENT
END:VCALENDAR
