BEGIN:VCALENDAR
PRODID:NingEventWidget-v1
VERSION:2.0
METHOD:PUBLISH
BEGIN:VTIMEZONE
TZID:Europe/London
X-LIC-LOCATION:Europe/London
BEGIN:DAYLIGHT
TZOFFSETFROM:+0000
TZOFFSETTO:+0100
TZNAME:BST
DTSTART:19700329T010000
RRULE:FREQ=YEARLY;BYMONTH=3;BYDAY=-1SU
END:DAYLIGHT
BEGIN:STANDARD
TZOFFSETFROM:+0100
TZOFFSETTO:+0000
TZNAME:GMT
DTSTART:19701025T020000
RRULE:FREQ=YEARLY;BYMONTH=10;BYDAY=-1SU
END:STANDARD
END:VTIMEZONE
BEGIN:VEVENT
UID:4626108:Event:527219
DTSTAMP:20260420T162055Z
SUMMARY:Woking Connections Breakfast, Ripley
DESCRIPTION:Woking Connections at The Talbot\r\n\r\nWith the help of o
 ur lovely venues, we're actually back to 'Covid-safe' physical meeting
 s again!\r\nSafety measures mean we can only cater for very limited nu
 mbers, so if it's full - sorry! We'll keep you posted... Any questions
 , please call Paul Bridgland on 07799 888388\r\nUntil we are (reason
 ably) sure that this is a permanent change we would ask everyone to bo
 ok and pay for their breakfast online - there's no option to pay on t
 he door.\r\nOur Woking meetings are run by Sally Castro Gouveia & Mark
  Elliott - Business should be fun!  \r\nCOST: £15 meeting fee includ
 ing breakfast\r\nBOOKING: Please follow this link...  to register fo
 r the meeting \r\nMAP\r\nFree parking in the Talbot's own car park\r\
 n----------------------------\r\n***OPEN SPECIALS! We will continue t
 o run a FREE single weekly virtual meeting on Tuesdays for the fore
 seeable future alongside our normal meetings, for those who are unable
  or prefer not to resume just yet ... and these will be open to all -
  Members and Visitors alike! You'll find all our meetings listed here
  on Networking in Surrey. ***\n\nFor more information visit https://ne
 tworkinginsurrey.co.uk/events/woking-connections-breakfast-ripley-235
DTSTART;TZID=Europe/London:20210609T083000
DTEND;TZID=Europe/London:20210609T100000
CATEGORIES:breakfast, woking, connect_surrey
LOCATION:The Talbot Inn GU23 6BB
WEBSITE:
URL:
CONTACT:
ORGANIZER:Sally Castro Gouveia and Mark Elliott
ATTACH;FMTTYPE="image/jpeg":https://storage.ning.com/topology/rest/1.0
 /file/get/8953315469?profile=original
ATTENDEE;ROLE=REQ-PARTICIPANT;PARTSTAT=ACCEPTED;RSVP=TRUE;CN="Paul A B
 ridgland":https://networkinginsurrey.co.uk/profile/PaulABridgland
END:VEVENT
END:VCALENDAR
