BEGIN:VCALENDAR
PRODID:NingEventWidget-v1
VERSION:2.0
METHOD:PUBLISH
BEGIN:VTIMEZONE
TZID:Europe/London
X-LIC-LOCATION:Europe/London
BEGIN:DAYLIGHT
TZOFFSETFROM:+0000
TZOFFSETTO:+0100
TZNAME:BST
DTSTART:19700329T010000
RRULE:FREQ=YEARLY;BYMONTH=3;BYDAY=-1SU
END:DAYLIGHT
BEGIN:STANDARD
TZOFFSETFROM:+0100
TZOFFSETTO:+0000
TZNAME:GMT
DTSTART:19701025T020000
RRULE:FREQ=YEARLY;BYMONTH=10;BYDAY=-1SU
END:STANDARD
END:VTIMEZONE
BEGIN:VEVENT
UID:4626108:Event:287104
DTSTAMP:20260422T083449Z
SUMMARY:Woking Chamber Networking Lunch
DESCRIPTION:Woking Chamber Networking Lunch at the Ambassadors\r\n\r\n
 Don’t miss Woking Chamber’s monthly networking lunch event now e
 stablished for over 16 years at the usual venue - the Ambassadors The
 atre bar at The New Victoria Theatre, Peacocks, Woking.\r\nOur Januar
 y event is a New Members' mini exhibition, where 8 new Chamber members
  take a table and introduce themselves to the members.The event regula
 rly attracts 35 - 45 local business owners, managers and directors. S 
 finger buffet is included, and there's a cash bar.\r\nInformal, profes
 sional, friendly, it's open to all, and as popular as ever, with som
 e 50 local business owners and managers expected to attend.\r\nBring p
 lenty of cards, bring your leaflets to display and bring your colleagu
 es. Arrive any time to suit you from 12:00 (ends at 2.30).\r\nYou can 
 just turn up and pay on the day, but we would much prefer you to book 
 please, for catering purposes!\r\nCOST: Chamber Members £12.50 + VAT,
  Non members £20 + VAT\r\nBOOKING: Please CLICK HERE TO BOOK  or e
 mail office@wokingchamber.org.uk with any questions or to let us kno
 w you are coming and pay on the door. \r\nMAP\r\n \r\n\n\nFor more i
 nformation visit https://networkinginsurrey.co.uk/events/woking-chambe
 r-networking
DTSTART;TZID=Europe/London:20200117T120000
DTEND;TZID=Europe/London:20200117T140000
CATEGORIES:networking, -, informal
LOCATION:New Victoria Theatre
WEBSITE:http://wokingchamber.org.uk/events
URL:http://wokingchamber.org.uk/events
CONTACT:01276 423781
ORGANIZER;CN="Paul Webster":https://networkinginsurrey.co.uk/profile/P
 aulWebster
ATTACH;FMTTYPE="image/jpeg":https://storage.ning.com/topology/rest/1.0
 /file/get/3800100959?profile=original
ATTENDEE;ROLE=REQ-PARTICIPANT;PARTSTAT=ACCEPTED;RSVP=TRUE;CN="Paul Web
 ster":https://networkinginsurrey.co.uk/profile/PaulWebster
END:VEVENT
END:VCALENDAR
