BEGIN:VCALENDAR
PRODID:NingEventWidget-v1
VERSION:2.0
METHOD:PUBLISH
BEGIN:VTIMEZONE
TZID:Europe/London
X-LIC-LOCATION:Europe/London
BEGIN:DAYLIGHT
TZOFFSETFROM:+0000
TZOFFSETTO:+0100
TZNAME:BST
DTSTART:19700329T010000
RRULE:FREQ=YEARLY;BYMONTH=3;BYDAY=-1SU
END:DAYLIGHT
BEGIN:STANDARD
TZOFFSETFROM:+0100
TZOFFSETTO:+0000
TZNAME:GMT
DTSTART:19701025T020000
RRULE:FREQ=YEARLY;BYMONTH=10;BYDAY=-1SU
END:STANDARD
END:VTIMEZONE
BEGIN:VEVENT
UID:4626108:Event:74280
DTSTAMP:20260420T001142Z
SUMMARY:Woking Chamber Networking Lunch, Woking
DESCRIPTION:Woking Chamber's Networking Lunch at the Ambassadors\n\nDo
 nâ€™t miss Woking Chamberâ€™s networking lunch event now established f
 or some 12 yearsÂ at the usual venue - the Ambassadors Theatre bar.\nI
 nformal, professional, friendly,Â it's open to all, and as popular as 
 ever,Â with some 50 local business owners and managers expected to att
 end.\nBring plenty of cards, bring your leaflets to display and bring 
 your colleagues. Arrive any time to suit you from 12:00 (ends at 2.30)
 .\nYou can just turn up and pay on the day, but we would much prefer y
 ou to book please, for catering purposes!\nInformal networking with a 
 tasty finger buffet included, and a cash bar.\nCOST: Chamber Members Â
 £12.50 + VAT,Â Non members Â£20 + VAT\nBOOKING: PleaseÂ CLICK HERE TO 
 BOOKÂ  or email office@wokingchamber.org.ukÂ with any questions orÂ to
  let us know you are coming and pay on the door.Â \nMAP\nÂ \n\n\nFor m
 ore information visit https://networkinginsurrey.co.uk/events/woking-c
 hamber-networking-at-the-theatre
DTSTART;TZID=Europe/London:20150814T120000
DTEND;TZID=Europe/London:20150814T143000
CATEGORIES:monthly, informal, networking
LOCATION:1st Floor Bar area, New Victoria Theatre,GU21 6GQ
WEBSITE:http://www.wokingchamber.org.uk - events
URL:http://www.wokingchamber.org.uk - events
CONTACT:01344 304268
ORGANIZER;CN="Paul Webster":https://networkinginsurrey.co.uk/profile/P
 aulWebster
ATTACH;FMTTYPE="image/jpeg":http://storage.ning.com/topology/rest/1.0/
 file/get/2591381086?profile=original
ATTENDEE;ROLE=REQ-PARTICIPANT;PARTSTAT=ACCEPTED;RSVP=TRUE;CN="Paul Web
 ster":https://networkinginsurrey.co.uk/profile/PaulWebster
END:VEVENT
END:VCALENDAR
