BEGIN:VCALENDAR
PRODID:NingEventWidget-v1
VERSION:2.0
METHOD:PUBLISH
BEGIN:VTIMEZONE
TZID:Europe/London
X-LIC-LOCATION:Europe/London
BEGIN:DAYLIGHT
TZOFFSETFROM:+0000
TZOFFSETTO:+0100
TZNAME:BST
DTSTART:19700329T010000
RRULE:FREQ=YEARLY;BYMONTH=3;BYDAY=-1SU
END:DAYLIGHT
BEGIN:STANDARD
TZOFFSETFROM:+0100
TZOFFSETTO:+0000
TZNAME:GMT
DTSTART:19701025T020000
RRULE:FREQ=YEARLY;BYMONTH=10;BYDAY=-1SU
END:STANDARD
END:VTIMEZONE
BEGIN:VEVENT
UID:4626108:Event:5493
DTSTAMP:20260423T222207Z
SUMMARY:Woking Chamber Lunch, Woking
DESCRIPTION:Woking Chamber's Networking Lunch at the Ambassadors\n\nDo
 n’t miss Woking Chamber’s networking lunch event at the usual venu
 e - the Ambassadors Theatre bar. Bring plenty of cards, bring your lea
 flets to display and bring your colleagues. Arrive any time to suit yo
 u from 12:30.\nTasty finger buffet included, cash bar.\nMembers £10 i
 nc VAT\nNon members £15 inc VAT\nCLICK HERE TO BOOK On the Woking Cha
 mber website click the Events tab to pay online, or call Gill on 01483
  729922 to let her know you are coming and pay on the door - OR – ju
 st turn up and pay on the day, but we would prefer you to book please.
 \nDIRECTIONS\n---------------------------------------,\nThis event is 
 organised by NiS Member James Webster\n\nFor more information visit ht
 tps://networkinginsurrey.co.uk/events/woking-chamber-lunch-woking-2
DTSTART;TZID=Europe/London:20101119T120000
DTEND;TZID=Europe/London:20101119T140000
CATEGORIES:lunch, woking, woking_chamber
LOCATION:Ambassadors Theatre Friends' Bar, 1st Floor GU21 6GQ
WEBSITE:http://www.wokingchamber.org.uk
URL:http://www.wokingchamber.org.uk
CONTACT:01483 729922
ORGANIZER:James Webster, The Webster Partnership
ATTACH;FMTTYPE="image/jpeg":http://storage.ning.com/topology/rest/1.0/
 file/get/2591381086?profile=original
ATTENDEE;ROLE=REQ-PARTICIPANT;PARTSTAT=ACCEPTED;RSVP=TRUE;CN="Keith Gr
 over, NiS Founder":https://networkinginsurrey.co.uk/profile/KeithGrove
 r
END:VEVENT
END:VCALENDAR
