BEGIN:VCALENDAR
PRODID:NingEventWidget-v1
VERSION:2.0
METHOD:PUBLISH
BEGIN:VTIMEZONE
TZID:Europe/London
X-LIC-LOCATION:Europe/London
BEGIN:DAYLIGHT
TZOFFSETFROM:+0000
TZOFFSETTO:+0100
TZNAME:BST
DTSTART:19700329T010000
RRULE:FREQ=YEARLY;BYMONTH=3;BYDAY=-1SU
END:DAYLIGHT
BEGIN:STANDARD
TZOFFSETFROM:+0100
TZOFFSETTO:+0000
TZNAME:GMT
DTSTART:19701025T020000
RRULE:FREQ=YEARLY;BYMONTH=10;BYDAY=-1SU
END:STANDARD
END:VTIMEZONE
BEGIN:VEVENT
UID:4626108:Event:47285
DTSTAMP:20260425T191026Z
SUMMARY:Woking Chamber Breakfast Seminar, Woking
DESCRIPTION:LloydsTSB Annual Economic Breakfast Seminar at the HG Well
 s Centre\n\nWoking Chamber of Commerce, in association with Woking Bor
 ough Council, is proud to present the LloydsTSB Economic Breakfast Sem
 inar, featuring Adam Chester, Head of UK Macroeconomics, LloydsTSB.\nA
 dam started his career at the Bank of England as a financial markets e
 conomist. He later moved to the Monetary Policy section, where he was 
 responsible for helping to compile and analyse the UK monetary aggrega
 tes. In 1992, Adam moved to the investment bank Yamaichi International
  as an international bond strategist. After five years with Yamaichi, 
 he joined Halifax Group Treasury in August 1997. He was appointed Chie
 f Economist in 1999 and Chief Economist/Head of Research of HBOS Treas
 ury Services in October 2001. In 2009, following the Lloyds takeover o
 f HBOS, Adam joined the Lloyds Wholesale Markets division as Head of U
 K Macroeconomic Research.\nAdam is a Council member of the Society of 
 Business Economists (SBE) and Managing Editor of the economics journal
 , The Business Economist. His job involves extensive contact with the 
 media. He has written articles for various national newspapers and has
  regularly appeared in the financial press and on television.\n08.00am
  Registration, tea/coffee and bacon rolls \n08.30am Presentation by A
 dam Chester \n09.30am Questions and Answers \n10.00am Close \nCOST:
  Chamber Members £10 +VAT, Non-members £15+VAT\nBOOKING: Please CLI
 CK HERE to book your place Spaces are limited and pre-registration is 
 essential\nMAP\nThe nearest car park is The Victoria Way Car Park, a
 ccessed next to The Holiday Inn in Victoria Way. The venue can then be
  reached at the far end of the car park by crossing Church Street East
  or via level 4 by the foot bridge direct into the reception area of t
 he exhibition. The HG Wells Conference & Events Centre is just a few m
 inutes walk from Woking Station.\n\nFor more information visit https:/
 /networkinginsurrey.co.uk/events/woking-chamber-breakfast-seminar-woki
 ng
DTSTART;TZID=Europe/London:20120912T080000
DTEND;TZID=Europe/London:20120912T100000
CATEGORIES:breakfast, seminar, woking
LOCATION:H G Wells Conference and Events Centre GU21 6HJ
WEBSITE:
URL:
CONTACT:0118-973-1976
ORGANIZER:Woking Chamber
ATTACH;FMTTYPE="image/jpeg":http://storage.ning.com/topology/rest/1.0/
 file/get/2591408374?profile=original
ATTENDEE;ROLE=REQ-PARTICIPANT;PARTSTAT=ACCEPTED;RSVP=TRUE;CN="Keith Gr
 over, NiS Founder":https://networkinginsurrey.co.uk/profile/KeithGrove
 r
END:VEVENT
END:VCALENDAR
