BEGIN:VCALENDAR
PRODID:NingEventWidget-v1
VERSION:2.0
METHOD:PUBLISH
BEGIN:VTIMEZONE
TZID:Europe/London
X-LIC-LOCATION:Europe/London
BEGIN:DAYLIGHT
TZOFFSETFROM:+0000
TZOFFSETTO:+0100
TZNAME:BST
DTSTART:19700329T010000
RRULE:FREQ=YEARLY;BYMONTH=3;BYDAY=-1SU
END:DAYLIGHT
BEGIN:STANDARD
TZOFFSETFROM:+0100
TZOFFSETTO:+0000
TZNAME:GMT
DTSTART:19701025T020000
RRULE:FREQ=YEARLY;BYMONTH=10;BYDAY=-1SU
END:STANDARD
END:VTIMEZONE
BEGIN:VEVENT
UID:4626108:Event:389975
DTSTAMP:20260420T140551Z
SUMMARY:FREE Woking Business over Breakfast Online
DESCRIPTION:Business over Breakfast Woking Online\n\nThis successful b
 usiness networking club in Woking meets fortnightly on a Friday mornin
 g (normally at Hoebridge Golf Centre but online via Zoom for now).\nOu
 r aim is to create a strong networking group of local businesses who w
 ant to positively grow their business in collaboration with other loca
 l companies.\nCome along and try our lively and pressure free group an
 d learn more about how networking through BOB clubs can positively hel
 p your business.\nCOST: FREE (apart from an hour of your time!) \nBOO
 KING: Please CLICK HERE to book (the meeting fees mentioned on  our s
 ite are currently waived)\n\nFor more information visit https://networ
 kinginsurrey.co.uk/events/woking-business-over-breakfast-free-event
DTSTART;TZID=Europe/London:20201002T074500
DTEND;TZID=Europe/London:20201002T084500
CATEGORIES:breakfast, morning, free, networking, woking
LOCATION:Woking
WEBSITE:https://www.bobclubs.com/Club/Woking
URL:https://www.bobclubs.com/Club/Woking
CONTACT:07702 783233
ORGANIZER;CN="Ian Morgan":https://networkinginsurrey.co.uk/profile/Ian
 Morgan
ATTACH;FMTTYPE="image/jpeg":https://storage.ning.com/topology/rest/1.0
 /file/get/6677889477?profile=original
ATTENDEE;ROLE=REQ-PARTICIPANT;PARTSTAT=ACCEPTED;RSVP=TRUE;CN="Azam Kha
 n":https://networkinginsurrey.co.uk/profile/AbidKayani
ATTENDEE;ROLE=REQ-PARTICIPANT;PARTSTAT=ACCEPTED;RSVP=TRUE;CN="Ian Morg
 an":https://networkinginsurrey.co.uk/profile/IanMorgan
END:VEVENT
END:VCALENDAR
