BEGIN:VCALENDAR
PRODID:NingEventWidget-v1
VERSION:2.0
METHOD:PUBLISH
BEGIN:VTIMEZONE
TZID:Europe/London
X-LIC-LOCATION:Europe/London
BEGIN:DAYLIGHT
TZOFFSETFROM:+0000
TZOFFSETTO:+0100
TZNAME:BST
DTSTART:19700329T010000
RRULE:FREQ=YEARLY;BYMONTH=3;BYDAY=-1SU
END:DAYLIGHT
BEGIN:STANDARD
TZOFFSETFROM:+0100
TZOFFSETTO:+0000
TZNAME:GMT
DTSTART:19701025T020000
RRULE:FREQ=YEARLY;BYMONTH=10;BYDAY=-1SU
END:STANDARD
END:VTIMEZONE
BEGIN:VEVENT
UID:4626108:Event:55859
DTSTAMP:20260419T132904Z
SUMMARY:FREE Witley Business Club Evening, Whitley nr Godalming
DESCRIPTION:Free Networking Evening at the White Hart\n\nWitley Busine
 ss Club is a free metworking event organised by Private Detectives Ans
 wers Investigation and the White Hart in Witley\nIt's informal, fun, a
 nd free, with the likelihood of quite a few canapÃ©s floating around.Â
   No speeches, just the chance for you to talk and converse and maybe 
 even address your fellow audience.\nFor more information please visitÂ
  our website here.Â \nCOST: FREE\nBOOKING: It's a free drop in event, 
 but please let us know if you are coming by emailing info@witleybusine
 ssclub.co.uk\nMAP\nWhile there is a large car park, if overflow is nee
 ded please use Chichester hall 50 yards along the road.\n\nFor more in
 formation visit https://networkinginsurrey.co.uk/events/witley-busines
 s-club
DTSTART;TZID=Europe/London:20130514T173000
DTEND;TZID=Europe/London:20130514T193000
CATEGORIES:evening, free, godalming
LOCATION:The White Hart GU8 5PH
WEBSITE:http://maps.google.com/maps?q=gu8+5ph&hl=en&sll=37.0625,-95.67
 7068&sspn=62.99906,65.654297&hnear=Witley+GU8+5PH,+United+Kingdom&t=m&
 z=16
URL:http://maps.google.com/maps?q=gu8+5ph&hl=en&sll=37.0625,-95.677068
 &sspn=62.99906,65.654297&hnear=Witley+GU8+5PH,+United+Kingdom&t=m&z=16
CONTACT:01483 200999
ORGANIZER:Olivia Ellenger
ATTACH;FMTTYPE="image/jpeg":http://storage.ning.com/topology/rest/1.0/
 file/get/2591417690?profile=original
ATTENDEE;ROLE=REQ-PARTICIPANT;PARTSTAT=ACCEPTED;RSVP=TRUE;CN="Nicki Da
 vies":https://networkinginsurrey.co.uk/profile/NickiDavies
ATTENDEE;ROLE=REQ-PARTICIPANT;PARTSTAT=ACCEPTED;RSVP=TRUE;CN="Nigel Pa
 rsons":https://networkinginsurrey.co.uk/profile/NigelParsons
END:VEVENT
END:VCALENDAR
