BEGIN:VCALENDAR
PRODID:NingEventWidget-v1
VERSION:2.0
METHOD:PUBLISH
BEGIN:VTIMEZONE
TZID:Europe/London
X-LIC-LOCATION:Europe/London
BEGIN:DAYLIGHT
TZOFFSETFROM:+0000
TZOFFSETTO:+0100
TZNAME:BST
DTSTART:19700329T010000
RRULE:FREQ=YEARLY;BYMONTH=3;BYDAY=-1SU
END:DAYLIGHT
BEGIN:STANDARD
TZOFFSETFROM:+0100
TZOFFSETTO:+0000
TZNAME:GMT
DTSTART:19701025T020000
RRULE:FREQ=YEARLY;BYMONTH=10;BYDAY=-1SU
END:STANDARD
END:VTIMEZONE
BEGIN:VEVENT
UID:4626108:Event:36309
DTSTAMP:20260421T010230Z
SUMMARY:Winter Pimms in the Forest
DESCRIPTION:Cut your own Christmas Tree on Barossa Common\n\nProjectfi
 ve and Surrey Wildlife Trust are teaming up to bring you a unique Busi
 ness Networking event, which will help maintain the Heathland Habitat 
 in Camberley by letting you pick and cut your very own Christmas Tree!
 \nCan you think of a better networking event this Christmas?Â  One whe
 re you get to support a local charity; help maintain our local environ
 ment; network and team-build with other friendly local businesses; enj
 oy lunch, Winter Pimms and Roasted Chestnuts; and you get to choose yo
 ur own Christmas Tree and take it home â€“ all included in the price o
 f the networking event!\nBarossa Common, in Camberley, has many Scots 
 Pines which are threatening the Heathland habitat and we are inviting 
 local businesses to join us in a team building/networking day to clear
  an area of pine trees ranging from 2ft â€“ 8ft in size. The Surrey Wi
 ldlife Trust rangers and trained staff will be on hand to help.\nÂ \nC
 OST:Â Â£28.00 per person incuding lunch (and your free tree!)\nPLEASE 
 CLICK HERE TO BOOK\nDIRECTIONS: Full details for directions, parking, 
 tree collection, will be provided at least oneÂ week before the event.
 \nÂ \nWhat to wear:Â Walking boats, warm clothes, waterproof clothing 
 (be prepared for the weather!)\nÂ \nFormat of the day:\n11:00amÂ Â  â€
 “ Arrival with Tea and Coffee. Informal networking with other business
 es.\n11:30amÂ Â Â Â Â  Introduction about maintaining the Heathland an
 d Safety Briefing\n11:45amÂ Â Â Â Â Pick and Cut your own Christmas tr
 ee (with the Surrey Wildlife Trust rangers)\n1:30pmÂ Â  Lunch\n2:00pmÂ
  Â Â â€“ If you are able, stay to help clear more trees.\n3:00pmÂ Â Â 
 â€“ Winter Pimms and Roast Chestnuts\nÂ \n\nFor more information visit
  https://networkinginsurrey.co.uk/events/winter-pimms-in-the-forest
DTSTART;TZID=Europe/London:20111209T110000
DTEND;TZID=Europe/London:20111209T150000
CATEGORIES:networking, business, christmas
LOCATION:Barossa Common
WEBSITE:
URL:
CONTACT:
ORGANIZER;CN="Sarah Giles":https://networkinginsurrey.co.uk/profile/Sa
 rahGiles
ATTACH;FMTTYPE="image/jpeg":http://storage.ning.com/topology/rest/1.0/
 file/get/2591396027?profile=original
ATTENDEE;ROLE=REQ-PARTICIPANT;PARTSTAT=ACCEPTED;RSVP=TRUE;CN="Sarah Gi
 les":https://networkinginsurrey.co.uk/profile/SarahGiles
ATTENDEE;ROLE=REQ-PARTICIPANT;PARTSTAT=TENTATIVE;RSVP=TRUE;CN="Richard
  Francis":https://networkinginsurrey.co.uk/profile/RichardFrancis
END:VEVENT
END:VCALENDAR
