BEGIN:VCALENDAR
PRODID:NingEventWidget-v1
VERSION:2.0
METHOD:PUBLISH
BEGIN:VTIMEZONE
TZID:Europe/London
X-LIC-LOCATION:Europe/London
BEGIN:DAYLIGHT
TZOFFSETFROM:+0000
TZOFFSETTO:+0100
TZNAME:BST
DTSTART:19700329T010000
RRULE:FREQ=YEARLY;BYMONTH=3;BYDAY=-1SU
END:DAYLIGHT
BEGIN:STANDARD
TZOFFSETFROM:+0100
TZOFFSETTO:+0000
TZNAME:GMT
DTSTART:19701025T020000
RRULE:FREQ=YEARLY;BYMONTH=10;BYDAY=-1SU
END:STANDARD
END:VTIMEZONE
BEGIN:VEVENT
UID:4626108:Event:74963
DTSTAMP:20260426T015707Z
SUMMARY:WIN Breakfast, Woking
DESCRIPTION:WIN Breakfast Business Clinic\n\nDo you have a question ab
 out business?\nLegal? Tax? Sales and Marketing? Online? Pensions?\nOur
  members have expertise in all these areas and more. Join us for break
 fast followed by a business clinic and networking on Wednesday 14th Oc
 tober for breakfast\nCOST: Â£12 meeting fee including breakfast - butÂ
  FREE for first time guests!\nBOOKING: Please CLICK HEREÂ to register 
 to attend as a VIsitor\nMAP\n-----------------------------------------
 ---------------------\nWIN is aÂ non-profit makingÂ organisation, so a
 ll funds are channelled into administering, marketing and expanding th
 e group.The joining fee isÂ Â£50 for 6 monthsÂ andÂ Â£90 for a year. (
 Breakfast is Â£12 per meeting)\n\nFor more information visit https://n
 etworkinginsurrey.co.uk/events/win-breakfast-woking
DTSTART;TZID=Europe/London:20151014T064500
DTEND;TZID=Europe/London:20151014T083000
CATEGORIES:networking, "/business", clinic
LOCATION:Gorse Hill
WEBSITE:http://www.wokingnetwork.co.uk/meetings/next-meeting/book/
URL:http://www.wokingnetwork.co.uk/meetings/next-meeting/book/
CONTACT:07770 378 360
ORGANIZER:Chris Lillie
ATTACH;FMTTYPE="image/jpeg":http://storage.ning.com/topology/rest/1.0/
 file/get/2591448480?profile=original
ATTENDEE;ROLE=REQ-PARTICIPANT;PARTSTAT=ACCEPTED;RSVP=TRUE;CN="Ben Neal
 e":https://networkinginsurrey.co.uk/profile/BenNeale
END:VEVENT
END:VCALENDAR
