BEGIN:VCALENDAR
PRODID:NingEventWidget-v1
VERSION:2.0
METHOD:PUBLISH
BEGIN:VTIMEZONE
TZID:Europe/London
X-LIC-LOCATION:Europe/London
BEGIN:DAYLIGHT
TZOFFSETFROM:+0000
TZOFFSETTO:+0100
TZNAME:BST
DTSTART:19700329T010000
RRULE:FREQ=YEARLY;BYMONTH=3;BYDAY=-1SU
END:DAYLIGHT
BEGIN:STANDARD
TZOFFSETFROM:+0100
TZOFFSETTO:+0000
TZNAME:GMT
DTSTART:19701025T020000
RRULE:FREQ=YEARLY;BYMONTH=10;BYDAY=-1SU
END:STANDARD
END:VTIMEZONE
BEGIN:VEVENT
UID:4626108:Event:75705
DTSTAMP:20260425T235535Z
SUMMARY:WIN Breakfast, Woking
DESCRIPTION:WIN Breakfast Business Clinic\n\nHow to understand persona
 lity types and then how to work with them\nA Spotlight Presentation by
  Peter Kleyn of The Company Coach\nOur members have expertise in all t
 hese areas and more. Join us for breakfast followed by a spotlight pre
 sentation and networking on Wednesday 25th November for breakfast\nCOS
 T: £12 meeting fee including breakfast - but FREE for first time gue
 sts!\nBOOKING: Please CLICK HERE to register to attend as a VIsitor\n
 MAP\n--------------------------------------------------------------\nW
 IN is a non-profit making organisation, so all funds are channelled 
 into administering, marketing and expanding the group.The joining fee 
 is £50 for 6 months and £90 for a year. (Breakfast is £12 per me
 eting)\n\nFor more information visit https://networkinginsurrey.co.uk/
 events/win-breakfast-woking-1
DTSTART;TZID=Europe/London:20151125T064500
DTEND;TZID=Europe/London:20151125T083000
CATEGORIES:networking, business, presentation
LOCATION:Gorse Hill
WEBSITE:http://www.wokingnetwork.co.uk/meetings/next-meeting/book/
URL:http://www.wokingnetwork.co.uk/meetings/next-meeting/book/
CONTACT:07770 378 360
ORGANIZER:Chris Lillie
ATTACH;FMTTYPE="image/jpeg":http://storage.ning.com/topology/rest/1.0/
 file/get/2591448480?profile=original
ATTENDEE;ROLE=REQ-PARTICIPANT;PARTSTAT=ACCEPTED;RSVP=TRUE;CN="Ben Neal
 e":https://networkinginsurrey.co.uk/profile/BenNeale
END:VEVENT
END:VCALENDAR
