BEGIN:VCALENDAR
PRODID:NingEventWidget-v1
VERSION:2.0
METHOD:PUBLISH
BEGIN:VTIMEZONE
TZID:Europe/London
X-LIC-LOCATION:Europe/London
BEGIN:DAYLIGHT
TZOFFSETFROM:+0000
TZOFFSETTO:+0100
TZNAME:BST
DTSTART:19700329T010000
RRULE:FREQ=YEARLY;BYMONTH=3;BYDAY=-1SU
END:DAYLIGHT
BEGIN:STANDARD
TZOFFSETFROM:+0100
TZOFFSETTO:+0000
TZNAME:GMT
DTSTART:19701025T020000
RRULE:FREQ=YEARLY;BYMONTH=10;BYDAY=-1SU
END:STANDARD
END:VTIMEZONE
BEGIN:VEVENT
UID:4626108:Event:74560
DTSTAMP:20260426T044058Z
SUMMARY:WIN Breakfast, Woking
DESCRIPTION:WIN Breakfast Presentation: How to choose the right contra
 ctor\n\nWoking Independent Network (WIN) presents:  How to choose the 
 right contractor A spotlight presentation by Chris Lillie of CLIPinter
 iors 1) Can they provide satisfactory references for the works; what t
 o look for 2) How can you establish availability of sufficient resourc
 es with a qualified workforce 3) Understanding CDM Regulations April 2
 015 and your obligations  COST: £12 meeting fee including breakfast -
  but FREE for first time guests!\nBOOKING: Please CLICK HERE to regi
 ster to attend as a VIsitor\nMAP\n------------------------------------
 --------------------------\nWIN is a non-profit making organisation,
  so all funds are channelled into administering, marketing and expandi
 ng the group.The joining fee is £50 for 6 months and £90 for a ye
 ar. (Breakfast is £12 per meeting)\n\nFor more information visit http
 s://networkinginsurrey.co.uk/events/win-breakfast-presentation-how-to-
 choose-the-right-contractor
DTSTART;TZID=Europe/London:20150916T064500
DTEND;TZID=Europe/London:20150916T083000
CATEGORIES:networking, "/", presentation
LOCATION:Gorse Hill
WEBSITE:http://www.wokingnetwork.co.uk/meetings/next-meeting/book/
URL:http://www.wokingnetwork.co.uk/meetings/next-meeting/book/
CONTACT:07770 378 360
ORGANIZER:Chris Lillie
ATTACH;FMTTYPE="image/jpeg":http://storage.ning.com/topology/rest/1.0/
 file/get/2591448480?profile=original
ATTENDEE;ROLE=REQ-PARTICIPANT;PARTSTAT=ACCEPTED;RSVP=TRUE;CN="Ben Neal
 e":https://networkinginsurrey.co.uk/profile/BenNeale
END:VEVENT
END:VCALENDAR
