BEGIN:VCALENDAR
PRODID:NingEventWidget-v1
VERSION:2.0
METHOD:PUBLISH
BEGIN:VTIMEZONE
TZID:Europe/London
X-LIC-LOCATION:Europe/London
BEGIN:DAYLIGHT
TZOFFSETFROM:+0000
TZOFFSETTO:+0100
TZNAME:BST
DTSTART:19700329T010000
RRULE:FREQ=YEARLY;BYMONTH=3;BYDAY=-1SU
END:DAYLIGHT
BEGIN:STANDARD
TZOFFSETFROM:+0100
TZOFFSETTO:+0000
TZNAME:GMT
DTSTART:19701025T020000
RRULE:FREQ=YEARLY;BYMONTH=10;BYDAY=-1SU
END:STANDARD
END:VTIMEZONE
BEGIN:VEVENT
UID:4626108:Event:525949
DTSTAMP:20260420T203119Z
SUMMARY:FREE  Pro-actions Business Resilience Morning Seminar
DESCRIPTION:How to re-build your Business Resilience in 2021\r\n\r\nPl
 ease join us for an interactive online learning session to discover wh
 at you need to know to re-build your business resilience in 2021.\r\nI
 n the session we will cover:\r\n- What business resilience means and w
 hat it entails\r\n- The six key areas you can actively do something ab
 out to build resilience into your business, including;\r\n\r\nStrategy
 \r\nMarketing\r\nSales\r\nCost optimisation\r\nOrganisation design\r\n
 Governance (getting a grip)\r\n\r\nYou will come away with an understa
 nding of what areas of your business you can influence to increase you
 r business’s chances of survival and success .\r\nAt the end of the 
 session, you will have the opportunity to discuss topical issues with 
 other participants, network to grow your contact and potential custome
 r base. \r\nTo discuss your specific pain points and how you can take
  your business forward, you'll have the opportunity to follow up the 
 session with a FREE 1:1 business review with expert business advisor 
 Michael Rawlinson.\r\nThe session is completely free. Please use the 
  link to register. We look forward to seeing you there!\r\nCOST: FREE\
 r\nBOOKING: Please CLICK HERE to claim your free place\r\n\n\nFor mor
 e information visit https://networkinginsurrey.co.uk/events/what-you-n
 eed-to-know-to-rebuild-your-business-resilience-in-2021
DTSTART;TZID=Europe/London:20210414T093000
DTEND;TZID=Europe/London:20210414T113000
CATEGORIES:business, support, webinar
LOCATION:Zoom
WEBSITE:https://pro-actions.com/events-new-single/?eid=142872709119
URL:https://pro-actions.com/events-new-single/?eid=142872709119
CONTACT:03333 440 517
ORGANIZER;CN="Michael Rawlinson":https://networkinginsurrey.co.uk/prof
 ile/MichaelRawlinson
ATTACH;FMTTYPE="image/jpeg":https://storage.ning.com/topology/rest/1.0
 /file/get/8631180886?profile=original
ATTENDEE;ROLE=REQ-PARTICIPANT;PARTSTAT=ACCEPTED;RSVP=TRUE;CN="Michael 
 Rawlinson":https://networkinginsurrey.co.uk/profile/MichaelRawlinson
END:VEVENT
END:VCALENDAR
