BEGIN:VCALENDAR
PRODID:NingEventWidget-v1
VERSION:2.0
METHOD:PUBLISH
BEGIN:VTIMEZONE
TZID:Europe/London
X-LIC-LOCATION:Europe/London
BEGIN:DAYLIGHT
TZOFFSETFROM:+0000
TZOFFSETTO:+0100
TZNAME:BST
DTSTART:19700329T010000
RRULE:FREQ=YEARLY;BYMONTH=3;BYDAY=-1SU
END:DAYLIGHT
BEGIN:STANDARD
TZOFFSETFROM:+0100
TZOFFSETTO:+0000
TZNAME:GMT
DTSTART:19701025T020000
RRULE:FREQ=YEARLY;BYMONTH=10;BYDAY=-1SU
END:STANDARD
END:VTIMEZONE
BEGIN:VEVENT
UID:4626108:Event:47097
DTSTAMP:20260426T040818Z
SUMMARY:FREE Evening Skype Call: What makes YOU flip?
DESCRIPTION: Hi\nWhat makes YOU flip?\n\nThinking of amazing feats we 
 have witnessed during the Olympics and now some even more amazing feat
 s in the Paralympics...\nWhen do YOU flip ?\nWhen do YOU say to yourse
 lf, ENOUGH is ENOUGH I am going to change this ?\n\nWhat makes YOU tak
 e action ?\nHow might we leverage this motivation in ourselves and in 
 those we are coaching?\nAnd how might the Law of Attraction and Quant
 um Physics relate to this ?\nJoin us on Tue 4 Sep at 7 pm UK time to e
 xplore how our minds... conscious and unconscious... and have a FLIPPI
 NG good time too! \nIf you need to know how to connect on Skype, plea
 se contact me before Tuesday by NiS message or calling 07778 058026...
 \n Thanks!\n\n\nFor more information visit https://networkinginsurrey
 .co.uk/events/what-makes-you-flip-free-skype-call-on-tue-4-sept-at-7-p
 m-uk-time
DTSTART;TZID=Europe/London:20120904T190000
DTEND;TZID=Europe/London:20120904T200000
CATEGORIES:free, networking, call, on, skype
LOCATION:in the comfort of your own home on Skype - my ID is paulwigle
 y
WEBSITE:http://www.howmightwe.co.uk
URL:http://www.howmightwe.co.uk
CONTACT:07778 058026
ORGANIZER;CN="Paul Wigley":https://networkinginsurrey.co.uk/profile/Pa
 ulWigley
ATTACH;FMTTYPE="image/jpeg":http://storage.ning.com/topology/rest/1.0/
 file/get/2591408468?profile=original
ATTENDEE;ROLE=REQ-PARTICIPANT;PARTSTAT=ACCEPTED;RSVP=TRUE;CN="Paul Wig
 ley":https://networkinginsurrey.co.uk/profile/PaulWigley
END:VEVENT
END:VCALENDAR
