BEGIN:VCALENDAR
PRODID:NingEventWidget-v1
VERSION:2.0
METHOD:PUBLISH
BEGIN:VTIMEZONE
TZID:Europe/London
X-LIC-LOCATION:Europe/London
BEGIN:DAYLIGHT
TZOFFSETFROM:+0000
TZOFFSETTO:+0100
TZNAME:BST
DTSTART:19700329T010000
RRULE:FREQ=YEARLY;BYMONTH=3;BYDAY=-1SU
END:DAYLIGHT
BEGIN:STANDARD
TZOFFSETFROM:+0100
TZOFFSETTO:+0000
TZNAME:GMT
DTSTART:19701025T020000
RRULE:FREQ=YEARLY;BYMONTH=10;BYDAY=-1SU
END:STANDARD
END:VTIMEZONE
BEGIN:VEVENT
UID:4626108:Event:14501
DTSTAMP:20260422T173442Z
SUMMARY:Weybridge Ecademy Evening, Weybridge
DESCRIPTION:Hear Rupert Honywood at the Ship\n\nThis month at Weybridg
 e Ecademy, we are privileged to have Rupert Honywood of Personal Devel
 opment Bureau as our guest speaker.  His new venture will offer pers
 onal retraining for members of the various organisations like the Poli
 ce, Armed Forces, Civil Service, Local Government, etc who have been o
 r are about to be made redundant as a result of the Government cuts, a
 nd will soon extend to SMEs too. Rupert will be focusing on:• How he
  has managed to develop and grow a network of over 100 specialists and
  consultants and how you can be one too• The need to provide trainin
 g, mentoring and business support packages to those clients who are go
 ing through massive transitional change• The importance of circular 
 relationships were everyone wins and benefits• How working with intr
 oducers and brand ambassadors can really grow your business• The ben
 efit of using a completely new concept called Crowd Funding using micr
 o finance and larger scale finance to develop and grow your business.R
 upert is looking for professionals who could benefit by offering thei
 r skills and expertise to support the retraining offered. There are al
 so referral commissions to be earned.\nAn active Ecademy BlackStar me
 mber, he has over 20 Years Business and Commercial experience, and bu
 ilt an organisation of 160,000 members in 4 years which attracted 1,00
 0's of affiliates and 6 major partners which also attracted widespread
  national TV and press coverage. COST: £6\nCLICK HERE TO BOOK if you
  are an Ecademy Member. Non-members please email David Nunn nunn_d@hot
 mail.com to let us know you are coming - and bring a friend or colleag
 ue too.\nMAP\nVENUE\nThere is limited parking in The Ship's own car pa
 rk - free on-steet parking after 6pm\n----------------------\n Weybri
 dge Ecademy group is organised by NiS Members David Nunn and David Sha
 w and has over 200 Members.\n\nFor more information visit https://netw
 orkinginsurrey.co.uk/events/weybridge-ecademy-evening-1
DTSTART;TZID=Europe/London:20110426T193000
DTEND;TZID=Europe/London:20110426T223000
CATEGORIES:weybridge, ecademy, evening
LOCATION:Rear Meeting Room, Best Western Ship Hotel KT13 8BQ
WEBSITE:http://www.ecademy.com/module.php?mod=meeting&op=getgeo&mid=36
 287
URL:http://www.ecademy.com/module.php?mod=meeting&op=getgeo&mid=36287
CONTACT:+44 (0)7946 458748
ORGANIZER;CN="David Nunn":https://networkinginsurrey.co.uk/profile/Dav
 idNunn
ATTACH;FMTTYPE="image/jpeg":http://storage.ning.com/topology/rest/1.0/
 file/get/2591386062?profile=original
ATTENDEE;ROLE=REQ-PARTICIPANT;PARTSTAT=ACCEPTED;RSVP=TRUE;CN="Rupert H
 onywood":https://networkinginsurrey.co.uk/profile/Honywood
ATTENDEE;ROLE=REQ-PARTICIPANT;PARTSTAT=ACCEPTED;RSVP=TRUE;CN="Jane Har
 dy":https://networkinginsurrey.co.uk/profile/JaneHardy
ATTENDEE;ROLE=REQ-PARTICIPANT;PARTSTAT=ACCEPTED;RSVP=TRUE;CN="David Nu
 nn":https://networkinginsurrey.co.uk/profile/DavidNunn
ATTENDEE;ROLE=REQ-PARTICIPANT;PARTSTAT=TENTATIVE;RSVP=TRUE;CN="Fiona R
 oss":https://networkinginsurrey.co.uk/profile/FionaRossGuimont
ATTENDEE;ROLE=REQ-PARTICIPANT;PARTSTAT=TENTATIVE;RSVP=TRUE;CN="Farzad 
 Afkham":https://networkinginsurrey.co.uk/profile/FarzadAfkham
ATTENDEE;ROLE=REQ-PARTICIPANT;PARTSTAT=TENTATIVE;RSVP=TRUE;CN="Uzma Za
 idi":https://networkinginsurrey.co.uk/profile/UzmaAfzal
END:VEVENT
END:VCALENDAR
