BEGIN:VCALENDAR
PRODID:NingEventWidget-v1
VERSION:2.0
METHOD:PUBLISH
BEGIN:VTIMEZONE
TZID:Europe/London
X-LIC-LOCATION:Europe/London
BEGIN:DAYLIGHT
TZOFFSETFROM:+0000
TZOFFSETTO:+0100
TZNAME:BST
DTSTART:19700329T010000
RRULE:FREQ=YEARLY;BYMONTH=3;BYDAY=-1SU
END:DAYLIGHT
BEGIN:STANDARD
TZOFFSETFROM:+0100
TZOFFSETTO:+0000
TZNAME:GMT
DTSTART:19701025T020000
RRULE:FREQ=YEARLY;BYMONTH=10;BYDAY=-1SU
END:STANDARD
END:VTIMEZONE
BEGIN:VEVENT
UID:4626108:Event:100280
DTSTAMP:20260424T211432Z
SUMMARY:Wellness Day @ G Live Guildford
DESCRIPTION:Holistic Health Wellness Day @ G Live\r\n\r\nJoin us for a
 n amazing day of Holistic Health @ G Live in Guildford. 3 floors of ho
 listic therapists, natural & organic products, 3 seminar / workshop ro
 oms & a meditation room, healthy food, natural clothes and lots more..
 ....\r\nTo find out more or to book tickets, please go toÂ the event w
 ebsite here...\r\nThere will also be a day of fascinatingÂ Integrative
  MedicineÂ talks by International Doctors and ground breaking leaders 
 centred around the topic of Cancer and will look at a multi-faceted ap
 proach to the illness.\r\nThe Talks will talk place @ G Live as a para
 llel event to Wellness Day and attendees will have full access to all 
 activities and events at Wellness Day with their ticket (which costs Â
 £45 for the day) -Â click here for more details and to book...\r\nCOST
 :Â Earlybird tickets Â£8Â (Â£10 on the door)Â \r\nBOOKING: PleaseÂ CLI
 CK HEREÂ to register to attend Wellness Day\r\nMAP\n\nFor more informa
 tion visit https://networkinginsurrey.co.uk/events/wellness-day-g-live
DTSTART;TZID=Europe/London:20180922T100000
DTEND;TZID=Europe/London:20180922T160000
CATEGORIES:health, exhibition
LOCATION:G Live, Guildford
WEBSITE:https://glive.co.uk/Online/how-to-find-us
URL:https://glive.co.uk/Online/how-to-find-us
CONTACT:07377901184
ORGANIZER;CN="Stacey McIntyre":https://networkinginsurrey.co.uk/profil
 e/StaceyMcIntyre
ATTACH;FMTTYPE="image/jpeg":http://storage.ning.com/topology/rest/1.0/
 file/get/2591477087?profile=original
ATTENDEE;ROLE=REQ-PARTICIPANT;PARTSTAT=ACCEPTED;RSVP=TRUE;CN="Stacey M
 cIntyre":https://networkinginsurrey.co.uk/profile/StaceyMcIntyre
END:VEVENT
END:VCALENDAR
