BEGIN:VCALENDAR
PRODID:NingEventWidget-v1
VERSION:2.0
METHOD:PUBLISH
BEGIN:VTIMEZONE
TZID:Europe/London
X-LIC-LOCATION:Europe/London
BEGIN:DAYLIGHT
TZOFFSETFROM:+0000
TZOFFSETTO:+0100
TZNAME:BST
DTSTART:19700329T010000
RRULE:FREQ=YEARLY;BYMONTH=3;BYDAY=-1SU
END:DAYLIGHT
BEGIN:STANDARD
TZOFFSETFROM:+0100
TZOFFSETTO:+0000
TZNAME:GMT
DTSTART:19701025T020000
RRULE:FREQ=YEARLY;BYMONTH=10;BYDAY=-1SU
END:STANDARD
END:VTIMEZONE
BEGIN:VEVENT
UID:4626108:Event:74140
DTSTAMP:20260419T223435Z
SUMMARY:FREE Website & SEO Daytime Drop-in Clinic, Walton on Thames
DESCRIPTION:FREE Website & SEO Drop-in Clinic at the Hub\n\nOn the 3rd
  Monday of every month Bluebell Web Solutions hold a drop-in clinic wh
 ere you can get FREE ADVICE on your WEBSITE & SEARCH ENGINE OPTIMISAT
 ION (SE0).\n Mel Farmer is an experienced web designer specialising in
  WordPress and search engine optimisation. She has worked with a numbe
 r of small to medium sized businesses over the years and has a wealth 
 of knowledge to share.  Please note this offer is only available to e
 ach business once every 6 months.\nThis is perfect if either:\n- you a
 re looking to renew or refresh your website\n- your current website is
  not performing as it should be\nCOST:  FREE \nBOOKING: Book your fr
 ee 30 minute consultation by clicking here or emailing mel@bluebell-w
 eb-solutions.com\nMAP\nParking: There is parking available at Sainsb
 urys, Homebase (over the road) and Ashley Park (road behind Homebase).
 \nLocation: The Digital Work Hub is located two doors down on the rig
 ht from Wagamama at 123 New Zealand Avenue, Walton-on-Thames, KT12 1QA
 . There is a sign for The Digital Work Hub above the black door, pleas
 e use the buzzer marked reception when you arrive.\nIf you get lost: p
 lease call Mel on 07881622955 or The Digital Work Hub on 01932 881282.
 \n \n\nFor more information visit https://networkinginsurrey.co.uk/ev
 ents/website-seo-drop-in-clinic
DTSTART;TZID=Europe/London:20150817T100000
DTEND;TZID=Europe/London:20150817T160000
CATEGORIES:drop-in, clinic
LOCATION:The Digital Work Hub
WEBSITE:https://www.google.co.uk/maps/place/The+Digital+Work+Hub/@51.3
 84428,-0.4195099,17z/data=!3m1!4b1!4m2!3m1!1s0x48767500e0bf5709:0x7d07
 1ef06102e30e?hl=en
URL:https://www.google.co.uk/maps/place/The+Digital+Work+Hub/@51.38442
 8,-0.4195099,17z/data=!3m1!4b1!4m2!3m1!1s0x48767500e0bf5709:0x7d071ef0
 6102e30e?hl=en
CONTACT:07881622955
ORGANIZER;CN="Mel Farmer":https://networkinginsurrey.co.uk/profile/Mel
 Farmer322
ATTACH;FMTTYPE="image/jpeg":http://storage.ning.com/topology/rest/1.0/
 file/get/2591446773?profile=original
ATTENDEE;ROLE=REQ-PARTICIPANT;PARTSTAT=ACCEPTED;RSVP=TRUE;CN="Mel Farm
 er":https://networkinginsurrey.co.uk/profile/MelFarmer322
END:VEVENT
END:VCALENDAR
