BEGIN:VCALENDAR
PRODID:NingEventWidget-v1
VERSION:2.0
METHOD:PUBLISH
BEGIN:VTIMEZONE
TZID:Europe/London
X-LIC-LOCATION:Europe/London
BEGIN:DAYLIGHT
TZOFFSETFROM:+0000
TZOFFSETTO:+0100
TZNAME:BST
DTSTART:19700329T010000
RRULE:FREQ=YEARLY;BYMONTH=3;BYDAY=-1SU
END:DAYLIGHT
BEGIN:STANDARD
TZOFFSETFROM:+0100
TZOFFSETTO:+0000
TZNAME:GMT
DTSTART:19701025T020000
RRULE:FREQ=YEARLY;BYMONTH=10;BYDAY=-1SU
END:STANDARD
END:VTIMEZONE
BEGIN:VEVENT
UID:4626108:Event:47470
DTSTAMP:20260421T130946Z
SUMMARY:FREE FSB We Mean Business 2012
DESCRIPTION:Federation of Small Businesses 'We Mean Business' Exhibiti
 on\n\nCome and join us at our Fourth We Mean Business Exhibition at th
 e Fairfield Halls.\nStart the day with the 4Networking Breakfast (boo
 k in here) then visit the fantastic variety of exhibitors we have or 
 maybe attend an inspirational seminar. The FSB Surrey Policy Team will
  be holding a conference at the exhibition, which will have several k
 eynote speakers. You can end the day with a visit to the Wine Tasting 
 stand.\nCOST: FREE to attend\nBOOKING: Please CLICK HERE to register 
 to attend as a free Visitor\nBOOK A STAND - details here...\nMAP\nHea
 d for Croydon Town Centre and follow the signposts for Fairfield Halls
 . Fairfield is on the roundabout at the meeting of the A212 and the A2
 32. The postcode is CR9 1DG.\nA large multi-storey car park, operated 
 by NCP, is at the back of Fairfield and accessed from Barclay Road, an
 d charges are 1 Hour £ 2.00; 1 To 2 Hours £ 4.00; 2 To 3 Hours £ 6.
 00; 3 To 4 Hours £ 8.00; 4 To 5 Hours £ 10.00\n\nFor more informatio
 n visit https://networkinginsurrey.co.uk/events/we-mean-business-2012
DTSTART;TZID=Europe/London:20121108T080000
DTEND;TZID=Europe/London:20121108T170000
CATEGORIES:business, exhibition
LOCATION:Fairfield Halls CR9 1DG
WEBSITE:http://www.fairfield.co.uk
URL:http://www.fairfield.co.uk
CONTACT:01403 734257
ORGANIZER;CN="Sharon Bryant":https://networkinginsurrey.co.uk/profile/
 SharonBryant
ATTACH;FMTTYPE="image/jpeg":http://storage.ning.com/topology/rest/1.0/
 file/get/2591408113?profile=original
ATTENDEE;ROLE=REQ-PARTICIPANT;PARTSTAT=ACCEPTED;RSVP=TRUE;CN="Sharon B
 ryant":https://networkinginsurrey.co.uk/profile/SharonBryant
ATTENDEE;ROLE=REQ-PARTICIPANT;PARTSTAT=ACCEPTED;RSVP=TRUE;CN="Lord Ham
 ilton of Glencoe":https://networkinginsurrey.co.uk/profile/BrianIanHam
 ilton
END:VEVENT
END:VCALENDAR
