BEGIN:VCALENDAR
PRODID:NingEventWidget-v1
VERSION:2.0
METHOD:PUBLISH
BEGIN:VTIMEZONE
TZID:Europe/London
X-LIC-LOCATION:Europe/London
BEGIN:DAYLIGHT
TZOFFSETFROM:+0000
TZOFFSETTO:+0100
TZNAME:BST
DTSTART:19700329T010000
RRULE:FREQ=YEARLY;BYMONTH=3;BYDAY=-1SU
END:DAYLIGHT
BEGIN:STANDARD
TZOFFSETFROM:+0100
TZOFFSETTO:+0000
TZNAME:GMT
DTSTART:19701025T020000
RRULE:FREQ=YEARLY;BYMONTH=10;BYDAY=-1SU
END:STANDARD
END:VTIMEZONE
BEGIN:VEVENT
UID:4626108:Event:47737
DTSTAMP:20260425T203013Z
SUMMARY:WBG Business Connection Lunch, Hersham
DESCRIPTION:Discover 'The People Perspective' at Hersham Place\n\nFind
  out how good HR practices can protect your business, add value and sa
 ve you money plus make great business contacts at the WBG September Lu
 nch.\n\nLiz Boutcher on ‘The People Perspective’\nWith over 18 yea
 rs’ experience working both strategically and operationally for blue
  chip companies (inc. The Tetley Group, British Airports Authority and
  Selfridges), Liz is a fully-qualified HR Specialist who will provide 
 you with an overview of how good HR practices can protect your busines
 s, add value and save you money. She will also provide useful tips on 
 how to avoid the top 5 staffing mistakes made by SME’s.\nCOST: £15
  to WBG members + their guests, £25 to non-members. Booking in advanc
 e is essential please.\nBOOKING: Please CLICK HERE for more details a
 nd to book\nMAP\n\n\nFor more information visit https://networkinginsu
 rrey.co.uk/events/wbg-business-connection-lunch-the-people-perspective
DTSTART;TZID=Europe/London:20120918T120000
DTEND;TZID=Europe/London:20120918T140000
CATEGORIES:business_networking, lunch, hersham
LOCATION:Hersham Place Technology Park KT12 4RZ
WEBSITE:http://www.waltonbusinessgroup.co.uk/index.php?pgref=events&ev
 entid=130
URL:http://www.waltonbusinessgroup.co.uk/index.php?pgref=events&eventi
 d=130
CONTACT:01932 221895
ORGANIZER;CN="Sarah-Jane Shellard":https://networkinginsurrey.co.uk/pr
 ofile/SarahJaneShellard
ATTACH;FMTTYPE="image/jpeg":http://storage.ning.com/topology/rest/1.0/
 file/get/2591378668?profile=original
ATTENDEE;ROLE=REQ-PARTICIPANT;PARTSTAT=ACCEPTED;RSVP=TRUE;CN="Sarah-Ja
 ne Shellard":https://networkinginsurrey.co.uk/profile/SarahJaneShellar
 d
ATTENDEE;ROLE=REQ-PARTICIPANT;PARTSTAT=TENTATIVE;RSVP=TRUE;CN="Huda Ga
 y":https://networkinginsurrey.co.uk/profile/HudaGay
END:VEVENT
END:VCALENDAR
