BEGIN:VCALENDAR
PRODID:NingEventWidget-v1
VERSION:2.0
METHOD:PUBLISH
BEGIN:VTIMEZONE
TZID:Europe/London
X-LIC-LOCATION:Europe/London
BEGIN:DAYLIGHT
TZOFFSETFROM:+0000
TZOFFSETTO:+0100
TZNAME:BST
DTSTART:19700329T010000
RRULE:FREQ=YEARLY;BYMONTH=3;BYDAY=-1SU
END:DAYLIGHT
BEGIN:STANDARD
TZOFFSETFROM:+0100
TZOFFSETTO:+0000
TZNAME:GMT
DTSTART:19701025T020000
RRULE:FREQ=YEARLY;BYMONTH=10;BYDAY=-1SU
END:STANDARD
END:VTIMEZONE
BEGIN:VEVENT
UID:4626108:Event:65247
DTSTAMP:20260419T203836Z
SUMMARY:Walton Breakfast Club, Walton on Thames
DESCRIPTION:'Empowering Your Business with IT' at the Noble Vine\n\nTh
 e WBG is is delighted to have IT expert Alec Grant, IT Consultant of
  NID Technologies and founder of The Digital Work Hub, giving a 2014 I
 T update for business. Alec wilal look at key categories of applicatio
 ns that attendees can use to cost-effectively boost business.\nThe bre
 akfast club will provide you with an informal opportunity to meet and 
 share experiences with other local business people and professional.\n
 COST: £15 meeting fee including breakfast\nBOOKING: Please CLICK HERE
  NOW to book\nMAP\n\nFor more information visit https://networkingins
 urrey.co.uk/events/walton-breakfast-club
DTSTART;TZID=Europe/London:20140429T080000
DTEND;TZID=Europe/London:20140429T093000
CATEGORIES:breakfast, walton
LOCATION:The Noble Vine KT12 1DG
WEBSITE:http://noblevine-walton.com/
URL:http://noblevine-walton.com/
CONTACT:01932 221895
ORGANIZER;CN="Sarah-Jane Shellard":https://networkinginsurrey.co.uk/pr
 ofile/SarahJaneShellard
ATTACH;FMTTYPE="image/jpeg":http://storage.ning.com/topology/rest/1.0/
 file/get/2591378668?profile=original
ATTENDEE;ROLE=REQ-PARTICIPANT;PARTSTAT=ACCEPTED;RSVP=TRUE;CN="Sarah-Ja
 ne Shellard":https://networkinginsurrey.co.uk/profile/SarahJaneShellar
 d
END:VEVENT
END:VCALENDAR
