BEGIN:VCALENDAR
PRODID:NingEventWidget-v1
VERSION:2.0
METHOD:PUBLISH
BEGIN:VTIMEZONE
TZID:Europe/London
X-LIC-LOCATION:Europe/London
BEGIN:DAYLIGHT
TZOFFSETFROM:+0000
TZOFFSETTO:+0100
TZNAME:BST
DTSTART:19700329T010000
RRULE:FREQ=YEARLY;BYMONTH=3;BYDAY=-1SU
END:DAYLIGHT
BEGIN:STANDARD
TZOFFSETFROM:+0100
TZOFFSETTO:+0000
TZNAME:GMT
DTSTART:19701025T020000
RRULE:FREQ=YEARLY;BYMONTH=10;BYDAY=-1SU
END:STANDARD
END:VTIMEZONE
BEGIN:VEVENT
UID:4626108:Event:21406
DTSTAMP:20260424T131523Z
SUMMARY:Venture Catalyst Evening, Croydon
DESCRIPTION:Venture Catalyst Networking at the Croydon Park Hotel\n\n\
 nPlease join us  for a structured but notably informal evening networ
 king with a clear focus on lead generation and the development of long
 -term close working relationships with other businesses.\nCOST: Non-Me
 mbers - 1st visit free, 2nd visit £5, £rd visit £10, 4th & 5th visi
 ts £20\nMAP\n-------------------------------------------------\nVC's 
 Croydon business networking group typically meets every TUESDAY evenin
 g from 18.30h until 19.45h when the structured portion of the meeting 
 ends and the members and guests can head home or to the bar for some f
 urther informal networking.\n\nFor more information visit https://netw
 orkinginsurrey.co.uk/events/venture-catalyst-evening-1
DTSTART;TZID=Europe/London:20110614T183000
DTEND;TZID=Europe/London:20110614T200000
CATEGORIES:evening, croydon, venture_catalyst
LOCATION:Croydon Park Hotel CR9 5AA
WEBSITE:http://www.venture-catalyst.co.uk/business-networking-croydon
URL:http://www.venture-catalyst.co.uk/business-networking-croydon
CONTACT:01306 710 076
ORGANIZER;CN="David Thackray":https://networkinginsurrey.co.uk/profile
 /David
ATTACH;FMTTYPE="image/jpeg":http://storage.ning.com/topology/rest/1.0/
 file/get/2591393536?profile=original
ATTENDEE;ROLE=REQ-PARTICIPANT;PARTSTAT=ACCEPTED;RSVP=TRUE;CN="David Th
 ackray":https://networkinginsurrey.co.uk/profile/David
END:VEVENT
END:VCALENDAR
