BEGIN:VCALENDAR
PRODID:NingEventWidget-v1
VERSION:2.0
METHOD:PUBLISH
BEGIN:VTIMEZONE
TZID:Europe/London
X-LIC-LOCATION:Europe/London
BEGIN:DAYLIGHT
TZOFFSETFROM:+0000
TZOFFSETTO:+0100
TZNAME:BST
DTSTART:19700329T010000
RRULE:FREQ=YEARLY;BYMONTH=3;BYDAY=-1SU
END:DAYLIGHT
BEGIN:STANDARD
TZOFFSETFROM:+0100
TZOFFSETTO:+0000
TZNAME:GMT
DTSTART:19701025T020000
RRULE:FREQ=YEARLY;BYMONTH=10;BYDAY=-1SU
END:STANDARD
END:VTIMEZONE
BEGIN:VEVENT
UID:4626108:Event:74088
DTSTAMP:20260426T003427Z
SUMMARY:Trusted Referrals Breakfast, Copthorne
DESCRIPTION:Trusted Referrals Breakfast\n\nOpen meeting for visitors t
 o meet like minded local business people to exchange views, discuss is
 sues and to pass business to one another.\nCOST:  first visit is free
 , subsequent visits £12.\nBOOKING: Please CLICK HERE to book \nMAP\
 nFree parking\nMeeting takes place in the Phantom suite. directions to
  the room are in the reception area as you enter the hotel\n\nFor more
  information visit https://networkinginsurrey.co.uk/events/trusted-ref
 errals-breakfast-copthorne-302
DTSTART;TZID=Europe/London:20150924T063000
DTEND;TZID=Europe/London:20150924T083000
CATEGORIES:business, referral, meeting
LOCATION:Copthorne Effingham Park RH10 3EU
WEBSITE:http://www.milleniumhotels.co.uk/copthorneefiinham
URL:http://www.milleniumhotels.co.uk/copthorneefiinham
CONTACT:07971963002
ORGANIZER;CN="Christopher Tomaszewski":https://networkinginsurrey.co.u
 k/profile/ChristopherTomaszewski
ATTACH;FMTTYPE="image/jpeg":http://storage.ning.com/topology/rest/1.0/
 file/get/2591439977?profile=original
ATTENDEE;ROLE=REQ-PARTICIPANT;PARTSTAT=ACCEPTED;RSVP=TRUE;CN="Christop
 her Tomaszewski":https://networkinginsurrey.co.uk/profile/ChristopherT
 omaszewski
END:VEVENT
END:VCALENDAR
