BEGIN:VCALENDAR
PRODID:NingEventWidget-v1
VERSION:2.0
METHOD:PUBLISH
BEGIN:VTIMEZONE
TZID:Europe/London
X-LIC-LOCATION:Europe/London
BEGIN:DAYLIGHT
TZOFFSETFROM:+0000
TZOFFSETTO:+0100
TZNAME:BST
DTSTART:19700329T010000
RRULE:FREQ=YEARLY;BYMONTH=3;BYDAY=-1SU
END:DAYLIGHT
BEGIN:STANDARD
TZOFFSETFROM:+0100
TZOFFSETTO:+0000
TZNAME:GMT
DTSTART:19701025T020000
RRULE:FREQ=YEARLY;BYMONTH=10;BYDAY=-1SU
END:STANDARD
END:VTIMEZONE
BEGIN:VEVENT
UID:4626108:Event:86848
DTSTAMP:20260424T045644Z
SUMMARY:Truly Smart Coffee & Connect Morning, Nutfield
DESCRIPTION:Truly Smart Coffee & Connect at The Old Post\n\nJulia from
  Truly Yours Holidays and Fiona from S.M.A.R.T Nutrition & Fitness, ha
 ve joined together to form a chance for local SME's to come together f
 or coffee and connect. Grow your business with Truly Smart Coffee & Co
 nnect, once a month on the 3rd Thursday at 0930 until 1130 at The Old 
 Post Cafe.\nThe meetings will consist of a business card swap, 1 minut
 e intro, a chance for 1 business, per month, to take the Q & A corner 
 to give the group information about our business. As well as time to g
 ive testimonials, thanks and recommendations and time to chat.\nWe loo
 k forward to meeting you.\nJulia & Fiona\nCOST: £10 on the door inclu
 des drink, snack (& valuable connections)\nBOOKING: No need to book  
 - just turn up and join in!\nMAP\nParking at rear of building\n\nFor m
 ore information visit https://networkinginsurrey.co.uk/events/truly-sm
 art-coffee-connect-networking
DTSTART;TZID=Europe/London:20170316T093000
DTEND;TZID=Europe/London:20170316T113000
CATEGORIES:networking
LOCATION:Old Post RH1 4HH
WEBSITE:http://oldpost.co.uk/
URL:http://oldpost.co.uk/
CONTACT:07956242954
ORGANIZER:Julia Onslow-Cole & Fiona Coppard
ATTACH;FMTTYPE="image/jpeg":http://storage.ning.com/topology/rest/1.0/
 file/get/2591463102?profile=original
ATTENDEE;ROLE=REQ-PARTICIPANT;PARTSTAT=ACCEPTED;RSVP=TRUE;CN="Julia On
 slow-Cole":https://networkinginsurrey.co.uk/profile/JuliaOnslowCole
END:VEVENT
END:VCALENDAR
