BEGIN:VCALENDAR
PRODID:NingEventWidget-v1
VERSION:2.0
METHOD:PUBLISH
BEGIN:VTIMEZONE
TZID:Europe/London
X-LIC-LOCATION:Europe/London
BEGIN:DAYLIGHT
TZOFFSETFROM:+0000
TZOFFSETTO:+0100
TZNAME:BST
DTSTART:19700329T010000
RRULE:FREQ=YEARLY;BYMONTH=3;BYDAY=-1SU
END:DAYLIGHT
BEGIN:STANDARD
TZOFFSETFROM:+0100
TZOFFSETTO:+0000
TZNAME:GMT
DTSTART:19701025T020000
RRULE:FREQ=YEARLY;BYMONTH=10;BYDAY=-1SU
END:STANDARD
END:VTIMEZONE
BEGIN:VEVENT
UID:4626108:Event:321191
DTSTAMP:20260422T175645Z
SUMMARY:Tribe Nights Evening, Reigate
DESCRIPTION:Women's Business Club Tribe Night\r\n\r\nCome and join our
  Reigate Tribe!\r\nTribes Nights are mini-ecosystems of encouragement,
  empowerment, and of women who totally ‘get’ what it feels like to
  be you. Our Tribes Nights are monthly evening meetups in real life. Y
 ou can come along as a guest to your first Tribe Night by booking a gu
 est ticket, before making the decision to join.\r\nThere's plenty of t
 ime for networking, showcasing your business, adding a narrative and l
 earning!\r\nMarch Power Hour  Get Confident on LinkedIn and Instagram.
 ..  LinkedIn masterclass with Nicola Macdonald - Attractive Marketing 
 Instagram masterclass with Emily Canino- -Doodlemoo\r\nHere at Women's
  Business Club we know that running a business or building a career ca
 n be pretty lonely and we thought that if we could help to reduce even
  a tiny bit of that isolation you’re feeling, well then that’s goi
 ng to have a positive effect on your overall health, emotional, mental
  well-being and success.\r\nWe are all about connecting you with like-
 minded women, supporting, empowering you, and helping you grow in conf
 idence and knowledge, in a relaxed and informal way.\r\nFind out more 
 at www.womensbusiness.club/meetups\r\nCOST: First-time Visitor  £
 13.37 (inc VAT and booking fee), buy your own drinks  (Guest tickets 
 are non-refundable and non-transferable)\r\nBOOKING- Please CLICK HERE
  to book your place\r\nMAP\r\n----------------------------------------
 --------------------\r\nAbout Women's Business Club:\r\nThe Women's Bu
 siness Club exists to connect, support and empower business women. To 
 find out more, please visit our site here...\n\nFor more information 
 visit https://networkinginsurrey.co.uk/events/tribe-nights-reigate-sur
 rey-1
DTSTART;TZID=Europe/London:20200304T193000
DTEND;TZID=Europe/London:20200304T210000
CATEGORIES:networking, "group+"
LOCATION:The Vineking The Tasting Rooms
WEBSITE:http://www.nowitsallaboutme.co.uk
URL:http://www.nowitsallaboutme.co.uk
CONTACT:07904332339
ORGANIZER;CN="Clare Percival":https://networkinginsurrey.co.uk/profile
 /ClarePercival
ATTACH;FMTTYPE="image/jpeg":https://storage.ning.com/topology/rest/1.0
 /file/get/3937327444?profile=original
ATTENDEE;ROLE=REQ-PARTICIPANT;PARTSTAT=ACCEPTED;RSVP=TRUE;CN="Clare Pe
 rcival":https://networkinginsurrey.co.uk/profile/ClarePercival
END:VEVENT
END:VCALENDAR
