BEGIN:VCALENDAR
PRODID:NingEventWidget-v1
VERSION:2.0
METHOD:PUBLISH
BEGIN:VTIMEZONE
TZID:Europe/London
X-LIC-LOCATION:Europe/London
BEGIN:DAYLIGHT
TZOFFSETFROM:+0000
TZOFFSETTO:+0100
TZNAME:BST
DTSTART:19700329T010000
RRULE:FREQ=YEARLY;BYMONTH=3;BYDAY=-1SU
END:DAYLIGHT
BEGIN:STANDARD
TZOFFSETFROM:+0100
TZOFFSETTO:+0000
TZNAME:GMT
DTSTART:19701025T020000
RRULE:FREQ=YEARLY;BYMONTH=10;BYDAY=-1SU
END:STANDARD
END:VTIMEZONE
BEGIN:VEVENT
UID:4626108:Event:68595
DTSTAMP:20260420T040817Z
SUMMARY:FREE Lunchtime Business Growth Seminar, Dorking
DESCRIPTION: \"The Antidote to The Dragons' Den\" - top ten tips on h
 ow to grow your business!\n\nOwn or run your own business with up to 4
 9 employees? Are you looking to achieve breakthrough growth? If so, t
 his event is for you! \nCome to this FREE seminar to discover how to 
 achieve business growth, without having to live through the terror of 
 the Dragons’ Den! \nAt Business Doctors we help other businesses wi
 th hands-on, friendly, practical support, helping their clients develo
 p strategies to achieve growth and at the seminar you will learn how t
 o:\n\nGet clear about your business vision and its effectiveness\nMaxi
 mise your business capabilities\nStand out from the crowd\nFind and ex
 ploit your competitive edge\nFocus your marketing on the right custome
 rs\nManage and support the best people for your business\nUnderstand t
 he big picture and future proof your business\n\nYou will also hear fr
 om Roya Croudace, a Growth Manager from GrowthAccelerator.  \nGrowthA
 ccelerator offers support to SME businesses who are looking to substan
 tially grow their businesses. You'll have the chance to ask Roya for m
 ore details regarding the service and to find out whether your busines
 s is eligible for this unique and exclusive service.\n There will be 
 plenty of time for networking before the seminar session and again aft
 er we have finished.\nTea, coffee and sandwiches will be provided.\nIf
  you own or run a small or medium-sized business and are targeting gro
 wth, then we can help you to get your organisation onto the right path
  to achieve its full potential.\nOr if you are a company looking to ne
 twork and meet new people, then please also join us...\nCOST: FREE to 
 attend, but booking is essential please\nBOOKING: Please CLICK HERE 
  now to book your free place  , or email karenespley@businessdoct
 ors.co.uk to reserve a place. \nMAP\n\nFor more information visit ht
 tps://networkinginsurrey.co.uk/events/top-ten-tips-on-how-to-grow-your
 -business-the-antidote-to-the
DTSTART;TZID=Europe/London:20141113T113000
DTEND;TZID=Europe/London:20141113T140000
CATEGORIES:free, seminar, dorking, lunchtime
LOCATION:Dorking Halls
WEBSITE:http://www.dorkinghalls.co.uk/article/10369/Directions-and-Par
 king-Information
URL:http://www.dorkinghalls.co.uk/article/10369/Directions-and-Parking
 -Information
CONTACT:07979 866 453
ORGANIZER;CN="Karen Espley":https://networkinginsurrey.co.uk/profile/K
 arenEspley
ATTACH;FMTTYPE="image/jpeg":http://storage.ning.com/topology/rest/1.0/
 file/get/2591420228?profile=original
ATTENDEE;ROLE=REQ-PARTICIPANT;PARTSTAT=ACCEPTED;RSVP=TRUE;CN="Karen Es
 pley":https://networkinginsurrey.co.uk/profile/KarenEspley
END:VEVENT
END:VCALENDAR
