BEGIN:VCALENDAR
PRODID:NingEventWidget-v1
VERSION:2.0
METHOD:PUBLISH
BEGIN:VTIMEZONE
TZID:Europe/London
X-LIC-LOCATION:Europe/London
BEGIN:DAYLIGHT
TZOFFSETFROM:+0000
TZOFFSETTO:+0100
TZNAME:BST
DTSTART:19700329T010000
RRULE:FREQ=YEARLY;BYMONTH=3;BYDAY=-1SU
END:DAYLIGHT
BEGIN:STANDARD
TZOFFSETFROM:+0100
TZOFFSETTO:+0000
TZNAME:GMT
DTSTART:19701025T020000
RRULE:FREQ=YEARLY;BYMONTH=10;BYDAY=-1SU
END:STANDARD
END:VTIMEZONE
BEGIN:VEVENT
UID:4626108:Event:64774
DTSTAMP:20260419T163912Z
SUMMARY:thebestof Aldershot & Farnborough Awards Evening, Farnborough
DESCRIPTION:Local and Loved Awards Evening at the Village Hotel\n\nCom
 e and join us on Thursday 24th April at 6.00pm for a complimentary g
 lass of wine on arrival, buffet and plenty of good company at The Vi
 llage Hotel,  Farnborough - the perfect place to network with other
  local business people!\nThis month our networking will be slightly di
 fferent. We will be hosting our Local and Loved Awards 2014 ceremony a
 t this event. All our members who won best businesses award in our loc
 al campaign will receive their award along with a few surprises awards
  too!\nFor more information please give us a call on 01252 217101.\nCO
 ST: Tickets are just £15 for non members of thebestof Aldershot & Fa
 rnborough, including food and soft drinks.\nBOOKING: Please CLICK HERE
  to book your place\nMAP\n\nFor more information visit https://networ
 kinginsurrey.co.uk/events/thebestof-aldershot-farnborough-local-and-lo
 ved-awards-evening
DTSTART;TZID=Europe/London:20140424T180000
DTEND;TZID=Europe/London:20140424T203000
CATEGORIES:networking
LOCATION:The Village Hotel GU14 7BF
WEBSITE:http://www.thebestof.co.uk/local/farnborough/business-guide/fe
 ature/an-evening-with-thebestof-farnborough
URL:http://www.thebestof.co.uk/local/farnborough/business-guide/featur
 e/an-evening-with-thebestof-farnborough
CONTACT:01252 217101
ORGANIZER;CN="Carly Baker":https://networkinginsurrey.co.uk/profile/Ca
 rlyBaker
ATTACH;FMTTYPE="image/jpeg":http://storage.ning.com/topology/rest/1.0/
 file/get/2591414622?profile=original
ATTENDEE;ROLE=REQ-PARTICIPANT;PARTSTAT=ACCEPTED;RSVP=TRUE;CN="Carly Ba
 ker":https://networkinginsurrey.co.uk/profile/CarlyBaker
END:VEVENT
END:VCALENDAR
