BEGIN:VCALENDAR
PRODID:NingEventWidget-v1
VERSION:2.0
METHOD:PUBLISH
BEGIN:VTIMEZONE
TZID:Europe/London
X-LIC-LOCATION:Europe/London
BEGIN:DAYLIGHT
TZOFFSETFROM:+0000
TZOFFSETTO:+0100
TZNAME:BST
DTSTART:19700329T010000
RRULE:FREQ=YEARLY;BYMONTH=3;BYDAY=-1SU
END:DAYLIGHT
BEGIN:STANDARD
TZOFFSETFROM:+0100
TZOFFSETTO:+0000
TZNAME:GMT
DTSTART:19701025T020000
RRULE:FREQ=YEARLY;BYMONTH=10;BYDAY=-1SU
END:STANDARD
END:VTIMEZONE
BEGIN:VEVENT
UID:4626108:Event:69321
DTSTAMP:20260420T212335Z
SUMMARY:thebestof Aldershot & Farnborough Evening, Farnborough
DESCRIPTION:An Evening With thebestof Aldershot & Farnborough\n\nCome 
 and join us on Thursday 20th november for thebestof monthly networki
 ng evening event at 6.00pm at the Legacy Farnhsam Hogsback Hotel for s
 ome delicious food and plenty of good company - the perfect place to 
 network with other local business people!\nOur networking events are i
 nformal and relaxed with open networking throughout the evening.\nTo f
 ind out more about the Legacy Farnham, visit their website here\nFor 
 more information please give us a call on 01252 217101.\nCOST: Tickets
  are just £15 for non members of thebestof Aldershot & Farnborough, i
 ncluding buffet\nBOOKING: Please CLICK HERE to book your place\nMAP\n
 \nFor more information visit https://networkinginsurrey.co.uk/events/t
 hebestof-aldershot-farnborough-evening-farnborough-12
DTSTART;TZID=Europe/London:20141120T180000
DTEND;TZID=Europe/London:20141120T200000
CATEGORIES:networking
LOCATION:Legacy Farnham Hog Back Hotel, Hogs Back, Farnham, Surrey, GU
 10 1EX
WEBSITE:http://www.thebestof.co.uk/local/aldershot-and-farnborough/bus
 iness-guide/feature/networking-in-aldershot-with-the-best-of-aldershot
 -and-farnborough
URL:http://www.thebestof.co.uk/local/aldershot-and-farnborough/busines
 s-guide/feature/networking-in-aldershot-with-the-best-of-aldershot-and
 -farnborough
CONTACT:01252 217101
ORGANIZER;CN="Carly Baker":https://networkinginsurrey.co.uk/profile/Ca
 rlyBaker
ATTACH;FMTTYPE="image/jpeg":http://storage.ning.com/topology/rest/1.0/
 file/get/2591414622?profile=original
ATTENDEE;ROLE=REQ-PARTICIPANT;PARTSTAT=ACCEPTED;RSVP=TRUE;CN="Carly Ba
 ker":https://networkinginsurrey.co.uk/profile/CarlyBaker
END:VEVENT
END:VCALENDAR
