BEGIN:VCALENDAR
PRODID:NingEventWidget-v1
VERSION:2.0
METHOD:PUBLISH
BEGIN:VTIMEZONE
TZID:Europe/London
X-LIC-LOCATION:Europe/London
BEGIN:DAYLIGHT
TZOFFSETFROM:+0000
TZOFFSETTO:+0100
TZNAME:BST
DTSTART:19700329T010000
RRULE:FREQ=YEARLY;BYMONTH=3;BYDAY=-1SU
END:DAYLIGHT
BEGIN:STANDARD
TZOFFSETFROM:+0100
TZOFFSETTO:+0000
TZNAME:GMT
DTSTART:19701025T020000
RRULE:FREQ=YEARLY;BYMONTH=10;BYDAY=-1SU
END:STANDARD
END:VTIMEZONE
BEGIN:VEVENT
UID:4626108:Event:75577
DTSTAMP:20260425T202049Z
SUMMARY:FREE Ultimate Networkers Evening, Sutton
DESCRIPTION:\nThe Ultimate Networkers Event\nAt\nSt Nicholas Business 
 Centre\nWith\nthebestofepsomandewell\nand\nthebestofsutton\nWednesday 
 2nd December\n5:30 to 8:00pm\nSt Nicholas Business Centre - Chancery H
 ouse - St Nicholas Way - Sutton - SM1 1JB \nShowcasing the St Nichola
 s Business Centre & their newly refurbished serviced offices!\nIn conj
 unction with thebestofepsomandewell, thebestofsutton & hosted by City 
 Skyline, we bring to you The Ultimate Networkers Event!\nShowcasing th
 e St Nicholas Business Centre and their fantastic serviced offices, br
 inging together the business networkers in and around Sutton.\nJoin us
  for a lively evening of networking with festive cocktails and canapé
 s, as well as live vocals from Jenny Green and magic from the one and 
 only Theo the magician!\nDon’t miss out! Register for your FREE tick
 ets... \nCOST: FREE - booking is essential for catering purposes\nBO
 OKING: Please CLICK HERE to register now\nMAP\n \n\nFor more inform
 ation visit https://networkinginsurrey.co.uk/events/the-ultimate-netwo
 rkers-event-in-sutton
DTSTART;TZID=Europe/London:20151202T173000
DTEND;TZID=Europe/London:20151202T200000
CATEGORIES:networking
LOCATION:St Nicholas Business Centre - Chancery House
WEBSITE:http://www.cityskyline.co.uk
URL:http://www.cityskyline.co.uk
CONTACT:01737 350079
ORGANIZER;CN="Nigel Stickland":https://networkinginsurrey.co.uk/profil
 e/NigelStickland
ATTACH;FMTTYPE="image/jpeg":http://storage.ning.com/topology/rest/1.0/
 file/get/2591447585?profile=original
ATTENDEE;ROLE=REQ-PARTICIPANT;PARTSTAT=ACCEPTED;RSVP=TRUE;CN="Nigel St
 ickland":https://networkinginsurrey.co.uk/profile/NigelStickland
END:VEVENT
END:VCALENDAR
