BEGIN:VCALENDAR
PRODID:NingEventWidget-v1
VERSION:2.0
METHOD:PUBLISH
BEGIN:VTIMEZONE
TZID:Europe/London
X-LIC-LOCATION:Europe/London
BEGIN:DAYLIGHT
TZOFFSETFROM:+0000
TZOFFSETTO:+0100
TZNAME:BST
DTSTART:19700329T010000
RRULE:FREQ=YEARLY;BYMONTH=3;BYDAY=-1SU
END:DAYLIGHT
BEGIN:STANDARD
TZOFFSETFROM:+0100
TZOFFSETTO:+0000
TZNAME:GMT
DTSTART:19701025T020000
RRULE:FREQ=YEARLY;BYMONTH=10;BYDAY=-1SU
END:STANDARD
END:VTIMEZONE
BEGIN:VEVENT
UID:4626108:Event:4646
DTSTAMP:20260425T003232Z
SUMMARY:The Lunch Forum, Haslemere
DESCRIPTION:Peal Networking Lunch Forum, Haslemere Town Hall\n\nThe Lu
 nch Forum provides an opportunity for existing and aspiring Entreprene
 urs, Owner Managers, Directors and Partners to discuss business issues
  and share opportunities with like-minded individuals. It doesnâ€™t ha
 ve to be lonely at the top! Why reinvent the wheel, when there is like
 ly to be someone else present who has faced similar issues?\n\nCOST: Â
 £25 in advance OR Â£30 on the day [includes lunch and refreshments]\nP
 lease note that if payment is not made by the event close, the cost wi
 ll be Â£35\n\nCLICK HERE TO BOOK You will need to Register (free) if y
 ou have not booked a Peal Networking event before.\n------------------
 ------------------------\nPeal Networking events are run by NiS Member
  Philip Mendonca.\n\nFor more information visit https://networkinginsu
 rrey.co.uk/events/the-lunch-forum-haslemere
DTSTART;TZID=Europe/London:20101102T120000
DTEND;TZID=Europe/London:20101102T140000
CATEGORIES:networking, for, senior, business, people
LOCATION:Haslemere Town Hall
WEBSITE:http://www.pealnetworking.co.uk/haslemere-lunch-forum-booking-
 form
URL:http://www.pealnetworking.co.uk/haslemere-lunch-forum-booking-form
CONTACT:01428 644896
ORGANIZER;CN="Philip MendonÃ§a":https://networkinginsurrey.co.uk/profi
 le/PhilipMendonca
ATTACH;FMTTYPE="image/jpeg":http://storage.ning.com/topology/rest/1.0/
 file/get/180259316?profile=original
ATTENDEE;ROLE=REQ-PARTICIPANT;PARTSTAT=ACCEPTED;RSVP=TRUE;CN="Philip M
 endonÃ§a":https://networkinginsurrey.co.uk/profile/PhilipMendonca
END:VEVENT
END:VCALENDAR
